BEGIN:VCALENDAR
VERSION:2.0
PRODID:-//Keystone Centre - ECPv6.15.16//NONSGML v1.0//EN
CALSCALE:GREGORIAN
METHOD:PUBLISH
X-ORIGINAL-URL:https://keystonecentre.com
X-WR-CALDESC:Events for Keystone Centre
REFRESH-INTERVAL;VALUE=DURATION:PT1H
X-Robots-Tag:noindex
X-PUBLISHED-TTL:PT1H
BEGIN:VTIMEZONE
TZID:America/Winnipeg
BEGIN:DAYLIGHT
TZOFFSETFROM:-0600
TZOFFSETTO:-0500
TZNAME:CDT
DTSTART:20250309T080000
END:DAYLIGHT
BEGIN:STANDARD
TZOFFSETFROM:-0500
TZOFFSETTO:-0600
TZNAME:CST
DTSTART:20251102T070000
END:STANDARD
BEGIN:DAYLIGHT
TZOFFSETFROM:-0600
TZOFFSETTO:-0500
TZNAME:CDT
DTSTART:20260308T080000
END:DAYLIGHT
BEGIN:STANDARD
TZOFFSETFROM:-0500
TZOFFSETTO:-0600
TZNAME:CST
DTSTART:20261101T070000
END:STANDARD
BEGIN:DAYLIGHT
TZOFFSETFROM:-0600
TZOFFSETTO:-0500
TZNAME:CDT
DTSTART:20270314T080000
END:DAYLIGHT
BEGIN:STANDARD
TZOFFSETFROM:-0500
TZOFFSETTO:-0600
TZNAME:CST
DTSTART:20271107T070000
END:STANDARD
END:VTIMEZONE
BEGIN:VEVENT
DTSTART;VALUE=DATE:20260704
DTEND;VALUE=DATE:20260706
DTSTAMP:20260420T205124
CREATED:20251229T194432Z
LAST-MODIFIED:20251229T194432Z
UID:253828-1783123200-1783295999@keystonecentre.com
SUMMARY:Miniature Horse & Shetland Show
DESCRIPTION:Date: \nJuly 4th – 5th \nLocation: \nIndoor Show Ring
URL:https://keystonecentre.com/event/miniature-horse-shetland-show/
LOCATION:Indoor Show Ring\, Keystone Centre\, Brandon\, MB\, Canada
CATEGORIES:Agriculture
ATTACH;FMTTYPE=image/jpeg:https://keystonecentre.com/wp-content/uploads/2024/09/Default-picture.jpg
END:VEVENT
BEGIN:VEVENT
DTSTART;TZID=America/Winnipeg:20260709T140000
DTEND;TZID=America/Winnipeg:20260709T200000
DTSTAMP:20260420T205124
CREATED:20260108T203239Z
LAST-MODIFIED:20260108T203239Z
UID:253871-1783605600-1783627200@keystonecentre.com
SUMMARY:Canadian Blood Services - Blood Donor Clinic
DESCRIPTION:Date: \nJuly 9th \nTime: \n2:00 PM – 8:00 PM \nLocation: \nUCT Pavilion \nEntrance: \nEntrance B
URL:https://keystonecentre.com/event/canadian-blood-services-blood-donor-clinic-5/
LOCATION:UCT Pavilion\, Keystone Centre\, Brandon\, MB\, Canada
CATEGORIES:Other
ATTACH;FMTTYPE=image/jpeg:https://keystonecentre.com/wp-content/uploads/2024/09/Default-picture.jpg
END:VEVENT
BEGIN:VEVENT
DTSTART;VALUE=DATE:20260716
DTEND;VALUE=DATE:20260717
DTSTAMP:20260420T205124
CREATED:20260108T200852Z
LAST-MODIFIED:20260108T200852Z
UID:253859-1784160000-1784246399@keystonecentre.com
SUMMARY:McCain French Fry Day 2026
DESCRIPTION:Date: \nJuly 16th \nLocation: \nKeystone Centre Grounds
URL:https://keystonecentre.com/event/mccain-french-fry-day-2026/
LOCATION:Keystone Centre\, #1 1175 18th Street \,\, Brandon\, Manitoba\, R7A 7C5\, Canada
CATEGORIES:Other
ATTACH;FMTTYPE=image/jpeg:https://keystonecentre.com/wp-content/uploads/2024/09/Default-picture.jpg
END:VEVENT
BEGIN:VEVENT
DTSTART;VALUE=DATE:20260717
DTEND;VALUE=DATE:20260720
DTSTAMP:20260420T205124
CREATED:20260108T180715Z
LAST-MODIFIED:20260108T192543Z
UID:253842-1784246400-1784505599@keystonecentre.com
SUMMARY:Westman Dressage
DESCRIPTION:Date: \nJuly 17th – 19th \nLocation: \nOutdoor Show Ring
URL:https://keystonecentre.com/event/westman-dressage/
LOCATION:Outdoor Show Ring\, Keystone Centre\, Brandon\, MB\, Canada
CATEGORIES:Agriculture
ATTACH;FMTTYPE=image/jpeg:https://keystonecentre.com/wp-content/uploads/2024/09/Default-picture.jpg
END:VEVENT
BEGIN:VEVENT
DTSTART;VALUE=DATE:20260729
DTEND;VALUE=DATE:20260730
DTSTAMP:20260420T205124
CREATED:20251125T192425Z
LAST-MODIFIED:20251125T192425Z
UID:253746-1785283200-1785369599@keystonecentre.com
SUMMARY:Westman Challenge
DESCRIPTION:Date: \nJuly 29th \nLocation: \nIndoor Show Ring
URL:https://keystonecentre.com/event/westman-challenge-14/
LOCATION:Indoor Show Ring\, Keystone Centre\, Brandon\, MB\, Canada
CATEGORIES:Agriculture
ATTACH;FMTTYPE=image/jpeg:https://keystonecentre.com/wp-content/uploads/2024/09/Default-picture.jpg
END:VEVENT
END:VCALENDAR