BEGIN:VCALENDAR
VERSION:2.0
PRODID:-//Keystone Centre - ECPv6.15.16//NONSGML v1.0//EN
CALSCALE:GREGORIAN
METHOD:PUBLISH
X-ORIGINAL-URL:https://keystonecentre.com
X-WR-CALDESC:Events for Keystone Centre
REFRESH-INTERVAL;VALUE=DURATION:PT1H
X-Robots-Tag:noindex
X-PUBLISHED-TTL:PT1H
BEGIN:VTIMEZONE
TZID:America/Winnipeg
BEGIN:DAYLIGHT
TZOFFSETFROM:-0600
TZOFFSETTO:-0500
TZNAME:CDT
DTSTART:20250309T080000
END:DAYLIGHT
BEGIN:STANDARD
TZOFFSETFROM:-0500
TZOFFSETTO:-0600
TZNAME:CST
DTSTART:20251102T070000
END:STANDARD
BEGIN:DAYLIGHT
TZOFFSETFROM:-0600
TZOFFSETTO:-0500
TZNAME:CDT
DTSTART:20260308T080000
END:DAYLIGHT
BEGIN:STANDARD
TZOFFSETFROM:-0500
TZOFFSETTO:-0600
TZNAME:CST
DTSTART:20261101T070000
END:STANDARD
BEGIN:DAYLIGHT
TZOFFSETFROM:-0600
TZOFFSETTO:-0500
TZNAME:CDT
DTSTART:20270314T080000
END:DAYLIGHT
BEGIN:STANDARD
TZOFFSETFROM:-0500
TZOFFSETTO:-0600
TZNAME:CST
DTSTART:20271107T070000
END:STANDARD
END:VTIMEZONE
BEGIN:VEVENT
DTSTART;VALUE=DATE:20260603
DTEND;VALUE=DATE:20260608
DTSTAMP:20260420T205124
CREATED:20251229T194601Z
LAST-MODIFIED:20251229T194601Z
UID:253830-1780444800-1780876799@keystonecentre.com
SUMMARY:Manitoba Summer Fair 2026
DESCRIPTION:Date: \nJune 3rd – 7th \nLocation: \nKeystone Centre Grounds
URL:https://keystonecentre.com/event/manitoba-summer-fair-2026/
LOCATION:Keystone Centre\, #1 1175 18th Street \,\, Brandon\, Manitoba\, R7A 7C5\, Canada
CATEGORIES:Other
ATTACH;FMTTYPE=image/jpeg:https://keystonecentre.com/wp-content/uploads/2024/09/Default-picture.jpg
END:VEVENT
BEGIN:VEVENT
DTSTART;VALUE=DATE:20260609
DTEND;VALUE=DATE:20260611
DTSTAMP:20260420T205124
CREATED:20260325T135035Z
LAST-MODIFIED:20260325T135035Z
UID:254359-1780963200-1781135999@keystonecentre.com
SUMMARY:South Brandon Carroll 4-H Beef Club
DESCRIPTION:Date: \nJune 9th – 10th \nLocation: \nAssinioine Credit Union Agricultural Centre
URL:https://keystonecentre.com/event/south-brandon-carroll-4-h-beef-club/
LOCATION:Assiniboine Credit Union Agricultural Centre
CATEGORIES:Agriculture
ATTACH;FMTTYPE=image/jpeg:https://keystonecentre.com/wp-content/uploads/2024/09/Default-picture.jpg
END:VEVENT
BEGIN:VEVENT
DTSTART;VALUE=DATE:20260612
DTEND;VALUE=DATE:20260613
DTSTAMP:20260420T205124
CREATED:20251229T171952Z
LAST-MODIFIED:20251229T171952Z
UID:253818-1781222400-1781308799@keystonecentre.com
SUMMARY:ACC Graduation 2026
DESCRIPTION:Date: \nJune 12th \nLocation: \nAssiniboine Credit Union Place
URL:https://keystonecentre.com/event/acc-graduation-2026/
LOCATION:Assiniboine Credit Union Place\, Keystone Centre\, Brandon\, MB\, Canada
CATEGORIES:Other
ATTACH;FMTTYPE=image/jpeg:https://keystonecentre.com/wp-content/uploads/2024/09/Default-picture.jpg
END:VEVENT
BEGIN:VEVENT
DTSTART;VALUE=DATE:20260612
DTEND;VALUE=DATE:20260615
DTSTAMP:20260420T205124
CREATED:20251229T172456Z
LAST-MODIFIED:20251229T172456Z
UID:253820-1781222400-1781481599@keystonecentre.com
SUMMARY:Wheat City Reining Derby
DESCRIPTION:Date:  \nJune 12th – 14th \nLocation: \nIndoor Show Ring
URL:https://keystonecentre.com/event/wheat-city-reining-derby-2/
LOCATION:Indoor Show Ring\, Keystone Centre\, Brandon\, MB\, Canada
CATEGORIES:Agriculture
ATTACH;FMTTYPE=image/jpeg:https://keystonecentre.com/wp-content/uploads/2024/09/Default-picture.jpg
END:VEVENT
BEGIN:VEVENT
DTSTART;VALUE=DATE:20260612
DTEND;VALUE=DATE:20260615
DTSTAMP:20260420T205124
CREATED:20251229T193953Z
LAST-MODIFIED:20251229T193953Z
UID:253824-1781222400-1781481599@keystonecentre.com
SUMMARY:Brandon Light Horse and Pony Society Inc
DESCRIPTION:Date: \nJune 12th – 14th \nLocation: \nOutdoor Show Ring
URL:https://keystonecentre.com/event/brandon-light-horse-and-pony-society-inc/
LOCATION:Outdoor Show Ring\, Keystone Centre\, Brandon\, MB\, Canada
CATEGORIES:Agriculture
ATTACH;FMTTYPE=image/jpeg:https://keystonecentre.com/wp-content/uploads/2024/09/Default-picture.jpg
END:VEVENT
BEGIN:VEVENT
DTSTART;VALUE=DATE:20260616
DTEND;VALUE=DATE:20260617
DTSTAMP:20260420T205124
CREATED:20251125T192408Z
LAST-MODIFIED:20251125T192408Z
UID:253744-1781568000-1781654399@keystonecentre.com
SUMMARY:Westman Challenge
DESCRIPTION:Date: \nJune 16th \nLocation: \nIndoor Show Ring
URL:https://keystonecentre.com/event/westman-challenge-11/
LOCATION:Indoor Show Ring\, Keystone Centre\, Brandon\, MB\, Canada
CATEGORIES:Agriculture
ATTACH;FMTTYPE=image/jpeg:https://keystonecentre.com/wp-content/uploads/2024/09/Default-picture.jpg
END:VEVENT
BEGIN:VEVENT
DTSTART;VALUE=DATE:20260619
DTEND;VALUE=DATE:20260622
DTSTAMP:20260420T205124
CREATED:20251229T194202Z
LAST-MODIFIED:20251229T194202Z
UID:253826-1781827200-1782086399@keystonecentre.com
SUMMARY:Barrel Jackpot
DESCRIPTION:Date: \nJune 19th – 21st \nLocation: \nIndoor and Outdoor Show Rings
URL:https://keystonecentre.com/event/barrel-jackpot-4/
LOCATION:Outdoor Show Ring\, Keystone Centre\, Brandon\, MB\, Canada
CATEGORIES:Agriculture
ATTACH;FMTTYPE=image/jpeg:https://keystonecentre.com/wp-content/uploads/2024/09/Default-picture.jpg
END:VEVENT
BEGIN:VEVENT
DTSTART;TZID=America/Winnipeg:20260623T130000
DTEND;TZID=America/Winnipeg:20260623T160000
DTSTAMP:20260420T205124
CREATED:20260108T191137Z
LAST-MODIFIED:20260108T191137Z
UID:253845-1782219600-1782230400@keystonecentre.com
SUMMARY:Crocus Plains Graduation 2026
DESCRIPTION:Date: \nJune 23rd \nTime: \n1:00 PM – 4:00 PM \nLocation: \nAssiniboine Credit Union Place \nEntrance: \nEntrance A
URL:https://keystonecentre.com/event/crocus-plains-graduation-2026/
LOCATION:Assiniboine Credit Union Place\, Keystone Centre\, Brandon\, MB\, Canada
CATEGORIES:Other
ATTACH;FMTTYPE=image/jpeg:https://keystonecentre.com/wp-content/uploads/2024/09/Default-picture.jpg
END:VEVENT
BEGIN:VEVENT
DTSTART;VALUE=DATE:20260625
DTEND;VALUE=DATE:20260626
DTSTAMP:20260420T205124
CREATED:20260129T194738Z
LAST-MODIFIED:20260129T194738Z
UID:253962-1782345600-1782431999@keystonecentre.com
SUMMARY:Vincent Massey Graduation 2026
DESCRIPTION:Date: \nJune 25th \nLocation: \nAssiniboine Credit Union Place
URL:https://keystonecentre.com/event/vincent-massey-graduation-2026/
LOCATION:Manitoba
CATEGORIES:Other
ATTACH;FMTTYPE=image/jpeg:https://keystonecentre.com/wp-content/uploads/2024/09/Default-picture.jpg
END:VEVENT
END:VCALENDAR