BEGIN:VCALENDAR
VERSION:2.0
PRODID:-//Keystone Centre - ECPv6.15.16//NONSGML v1.0//EN
CALSCALE:GREGORIAN
METHOD:PUBLISH
X-WR-CALNAME:Keystone Centre
X-ORIGINAL-URL:https://keystonecentre.com
X-WR-CALDESC:Events for Keystone Centre
REFRESH-INTERVAL;VALUE=DURATION:PT1H
X-Robots-Tag:noindex
X-PUBLISHED-TTL:PT1H
BEGIN:VTIMEZONE
TZID:America/Winnipeg
BEGIN:DAYLIGHT
TZOFFSETFROM:-0600
TZOFFSETTO:-0500
TZNAME:CDT
DTSTART:20250309T080000
END:DAYLIGHT
BEGIN:STANDARD
TZOFFSETFROM:-0500
TZOFFSETTO:-0600
TZNAME:CST
DTSTART:20251102T070000
END:STANDARD
BEGIN:DAYLIGHT
TZOFFSETFROM:-0600
TZOFFSETTO:-0500
TZNAME:CDT
DTSTART:20260308T080000
END:DAYLIGHT
BEGIN:STANDARD
TZOFFSETFROM:-0500
TZOFFSETTO:-0600
TZNAME:CST
DTSTART:20261101T070000
END:STANDARD
BEGIN:DAYLIGHT
TZOFFSETFROM:-0600
TZOFFSETTO:-0500
TZNAME:CDT
DTSTART:20270314T080000
END:DAYLIGHT
BEGIN:STANDARD
TZOFFSETFROM:-0500
TZOFFSETTO:-0600
TZNAME:CST
DTSTART:20271107T070000
END:STANDARD
END:VTIMEZONE
BEGIN:VEVENT
DTSTART;TZID=America/Winnipeg:20260101T140000
DTEND;TZID=America/Winnipeg:20260101T140000
DTSTAMP:20260420T222118
CREATED:20250813T200859Z
LAST-MODIFIED:20250813T200859Z
UID:253050-1767276000-1767276000@keystonecentre.com
SUMMARY:Saskatoon Blades at Brandon Wheat Kings
DESCRIPTION:Date: \nJanuary 1st \nTime: \n2:00 PM \nLocation: \nAssiniboine Credit Union Place \nEntrance: \nEntrance A\, Canad Inns Upper Link
URL:https://keystonecentre.com/event/saskatoon-blades-at-brandon-wheat-kings-7/
LOCATION:Assiniboine Credit Union Place\, Keystone Centre\, Brandon\, MB\, Canada
CATEGORIES:Wheat Kings
ATTACH;FMTTYPE=image/jpeg:https://keystonecentre.com/wp-content/uploads/2025/08/4.jpg
END:VEVENT
BEGIN:VEVENT
DTSTART;VALUE=DATE:20260103
DTEND;VALUE=DATE:20260105
DTSTAMP:20260420T222118
CREATED:20250710T195230Z
LAST-MODIFIED:20251229T151307Z
UID:252853-1767398400-1767571199@keystonecentre.com
SUMMARY:Airsoft Competition
DESCRIPTION:Date: \nJanuary 3rd – 4th \nLocation: \nAssiniboine Credit Union Agricultural Centre \nEntrance: \nEntrance D
URL:https://keystonecentre.com/event/airsoft-competition/
LOCATION:Assiniboine Credit Union Agricultural Centre
CATEGORIES:Other
ATTACH;FMTTYPE=image/jpeg:https://keystonecentre.com/wp-content/uploads/2024/09/Default-picture.jpg
END:VEVENT
BEGIN:VEVENT
DTSTART;VALUE=DATE:20260107
DTEND;VALUE=DATE:20260108
DTSTAMP:20260420T222118
CREATED:20251028T185443Z
LAST-MODIFIED:20251028T185443Z
UID:253566-1767744000-1767830399@keystonecentre.com
SUMMARY:Business After 5
DESCRIPTION:Date: \nJanuary 7th \nLocation: \nAssembly Hall
URL:https://keystonecentre.com/event/business-after-5/
LOCATION:Manitoba Liquor and Lotteries Assembly Hall\, Keystone Centre\, Brandon\, Canada
CATEGORIES:Other
ATTACH;FMTTYPE=image/jpeg:https://keystonecentre.com/wp-content/uploads/2024/09/Default-picture.jpg
END:VEVENT
BEGIN:VEVENT
DTSTART;TZID=America/Winnipeg:20260107T190000
DTEND;TZID=America/Winnipeg:20260107T190000
DTSTAMP:20260420T222118
CREATED:20250813T201253Z
LAST-MODIFIED:20250813T201253Z
UID:253052-1767812400-1767812400@keystonecentre.com
SUMMARY:Red Deer Rebels at Brandon Wheat Kings
DESCRIPTION:Date: \nJanuary 7th \nTime: \n7:00 PM \nLocation: \nAssiniboine Credit Union Place \nEntrance: \nEntrance A\, Canad Inns Upper Link
URL:https://keystonecentre.com/event/red-deer-rebels-at-brandon-wheat-kings-4/
LOCATION:Assiniboine Credit Union Place\, Keystone Centre\, Brandon\, MB\, Canada
CATEGORIES:Wheat Kings
ATTACH;FMTTYPE=image/jpeg:https://keystonecentre.com/wp-content/uploads/2025/08/5.jpg
END:VEVENT
BEGIN:VEVENT
DTSTART;VALUE=DATE:20260108
DTEND;VALUE=DATE:20260109
DTSTAMP:20260420T222118
CREATED:20251028T184743Z
LAST-MODIFIED:20251028T184743Z
UID:253564-1767830400-1767916799@keystonecentre.com
SUMMARY:Keystone Centre AGM
DESCRIPTION:Date: \nJanuary 8th \nLocation: \nAssembly Hall
URL:https://keystonecentre.com/event/keystone-centre-agm/
LOCATION:Manitoba Liquor and Lotteries Assembly Hall\, Keystone Centre\, Brandon\, Canada
CATEGORIES:Other
ATTACH;FMTTYPE=image/jpeg:https://keystonecentre.com/wp-content/uploads/2024/09/Default-picture.jpg
END:VEVENT
BEGIN:VEVENT
DTSTART;VALUE=DATE:20260109
DTEND;VALUE=DATE:20260112
DTSTAMP:20260420T222118
CREATED:20250710T195749Z
LAST-MODIFIED:20250805T211416Z
UID:252855-1767916800-1768175999@keystonecentre.com
SUMMARY:Archery Shoot 2026
DESCRIPTION:Date: \nJanuary 9th – 11th \nLocation:  \nCanada Room \nEntrance: \nEntrance D
URL:https://keystonecentre.com/event/archery-shoot-2025/
LOCATION:Canada Room\, Keystone Centre\, Brandon\, Manitoba\, Canada
CATEGORIES:Other
ATTACH;FMTTYPE=image/jpeg:https://keystonecentre.com/wp-content/uploads/2024/09/Default-picture.jpg
END:VEVENT
BEGIN:VEVENT
DTSTART;TZID=America/Winnipeg:20260110T180000
DTEND;TZID=America/Winnipeg:20260110T180000
DTSTAMP:20260420T222118
CREATED:20250813T201711Z
LAST-MODIFIED:20250813T201723Z
UID:253054-1768068000-1768068000@keystonecentre.com
SUMMARY:Regina Pats at Brandon Wheat Kings
DESCRIPTION:Date: \nJanuary 10th \nTime: \n6:00 PM \nLocation: \nAssiniboine Credit Union Place \nEntrance: \nEntrance A\, Canad Inns Upper Link
URL:https://keystonecentre.com/event/regina-pats-at-brandon-wheat-kings-6/
LOCATION:Assiniboine Credit Union Place\, Keystone Centre\, Brandon\, MB\, Canada
CATEGORIES:Wheat Kings
ATTACH;FMTTYPE=image/jpeg:https://keystonecentre.com/wp-content/uploads/2025/08/6.jpg
END:VEVENT
BEGIN:VEVENT
DTSTART;TZID=America/Winnipeg:20260115T110000
DTEND;TZID=America/Winnipeg:20260115T130000
DTSTAMP:20260420T222118
CREATED:20260108T194204Z
LAST-MODIFIED:20260108T194204Z
UID:253851-1768474800-1768482000@keystonecentre.com
SUMMARY:January the Future of Agriculture Luncheon
DESCRIPTION:Date: \nJanuary 15th \nTime: \n11:00 AM – 1:00 PM \nLocation: \nMNP Hall \nEntrance: \nEntrance A
URL:https://keystonecentre.com/event/january-the-future-of-agriculture-luncheon/
LOCATION:MNP Hall\, Keystone Centre\, Brandon\, MB\, Canada
CATEGORIES:Other
ATTACH;FMTTYPE=image/jpeg:https://keystonecentre.com/wp-content/uploads/2024/09/Default-picture.jpg
END:VEVENT
BEGIN:VEVENT
DTSTART;TZID=America/Winnipeg:20260116T190000
DTEND;TZID=America/Winnipeg:20260116T190000
DTSTAMP:20260420T222118
CREATED:20250813T202048Z
LAST-MODIFIED:20250813T202048Z
UID:253057-1768590000-1768590000@keystonecentre.com
SUMMARY:Victoria Royals at Brandon Wheat Kings
DESCRIPTION:Date: \nJanuary 16th \nTime: \n7:00 PM \nLocation: \nAssiniboine Credit Union Place \nEntrance: \nEntrance A\, Canad Inns Upper Link
URL:https://keystonecentre.com/event/victoria-royals-at-brandon-wheat-kings/
LOCATION:Assiniboine Credit Union Place\, Keystone Centre\, Brandon\, MB\, Canada
CATEGORIES:Wheat Kings
ATTACH;FMTTYPE=image/jpeg:https://keystonecentre.com/wp-content/uploads/2025/08/7.jpg
END:VEVENT
BEGIN:VEVENT
DTSTART;TZID=America/Winnipeg:20260120T090000
DTEND;TZID=America/Winnipeg:20260122T170000
DTSTAMP:20260420T222118
CREATED:20250805T165822Z
LAST-MODIFIED:20250805T165822Z
UID:252980-1768899600-1769101200@keystonecentre.com
SUMMARY:Manitoba Ag Days 2026
DESCRIPTION:Date: \nJanuary 20th – 22nd \nTime: \n9:00 am – 5:00 PM daily \nLocation: \nKeystone Centre \nFor tickets\, use the “more info” link below.
URL:https://keystonecentre.com/event/manitoba-ag-days-2026/
LOCATION:Keystone Centre\, #1 1175 18th Street \,\, Brandon\, Manitoba\, R7A 7C5\, Canada
CATEGORIES:Agriculture
ATTACH;FMTTYPE=image/jpeg:https://keystonecentre.com/wp-content/uploads/2024/09/Default-picture.jpg
END:VEVENT
BEGIN:VEVENT
DTSTART;VALUE=DATE:20260125
DTEND;VALUE=DATE:20260126
DTSTAMP:20260420T222118
CREATED:20250805T183210Z
LAST-MODIFIED:20250805T183210Z
UID:252983-1769299200-1769385599@keystonecentre.com
SUMMARY:Westman Wedding Expo 2026
DESCRIPTION:Date: \nJanuary 25th \nLocation: \nUCT Pavilion
URL:https://keystonecentre.com/event/westman-wedding-expo-2026/
LOCATION:UCT Pavilion\, Keystone Centre\, Brandon\, MB\, Canada
CATEGORIES:Other
ATTACH;FMTTYPE=image/jpeg:https://keystonecentre.com/wp-content/uploads/2024/09/Default-picture.jpg
END:VEVENT
BEGIN:VEVENT
DTSTART;VALUE=DATE:20260127
DTEND;VALUE=DATE:20260130
DTSTAMP:20260420T222118
CREATED:20250805T185612Z
LAST-MODIFIED:20250805T185612Z
UID:252985-1769472000-1769731199@keystonecentre.com
SUMMARY:Manitoba Potato Production Days 2026
DESCRIPTION:Date: \nJanuary 27th – 29th \nLocation: \nAssiniboine Credit Union Agricultural Centre \n 
URL:https://keystonecentre.com/event/manitoba-potato-production-days-2026/
LOCATION:Assiniboine Credit Union Agricultural Centre
CATEGORIES:Agriculture
ATTACH;FMTTYPE=image/jpeg:https://keystonecentre.com/wp-content/uploads/2024/09/Default-picture.jpg
END:VEVENT
BEGIN:VEVENT
DTSTART;VALUE=DATE:20260129
DTEND;VALUE=DATE:20260201
DTSTAMP:20260420T222118
CREATED:20260129T171718Z
LAST-MODIFIED:20260129T171718Z
UID:253923-1769644800-1769903999@keystonecentre.com
SUMMARY:Murray's Indoor Sale
DESCRIPTION:Dates: \nJanuary 29th – 31st \nLocation: \nManitoba Room \nEntrance: \nEntrance A
URL:https://keystonecentre.com/event/murrays-indoor-sale/
LOCATION:Manitoba Room\, Keystone Centre\, Brandon\, MB\, Canada
CATEGORIES:Other
ATTACH;FMTTYPE=image/jpeg:https://keystonecentre.com/wp-content/uploads/2024/09/Default-picture.jpg
END:VEVENT
BEGIN:VEVENT
DTSTART;VALUE=DATE:20260130
DTEND;VALUE=DATE:20260202
DTSTAMP:20260420T222118
CREATED:20250805T165529Z
LAST-MODIFIED:20250805T165529Z
UID:252978-1769731200-1769990399@keystonecentre.com
SUMMARY:Canine Agility Racers
DESCRIPTION:Date: \nJanuary 30th – February 1st \nLocation: \nBarn 3
URL:https://keystonecentre.com/event/canine-agility-racers/
LOCATION:Assiniboine Credit Union Agricultural Centre
CATEGORIES:Agriculture
ATTACH;FMTTYPE=image/jpeg:https://keystonecentre.com/wp-content/uploads/2024/09/Default-picture.jpg
END:VEVENT
BEGIN:VEVENT
DTSTART;VALUE=DATE:20260130
DTEND;VALUE=DATE:20260202
DTSTAMP:20260420T222118
CREATED:20260129T173918Z
LAST-MODIFIED:20260129T173918Z
UID:253925-1769731200-1769990399@keystonecentre.com
SUMMARY:Hockey Brandon U9 & U15 Tournament
DESCRIPTION:Date: \nJanuary 30th – February 1st \nLocation: \nAssiniboine Credit Union Place \nEntrance: \nEntrance A \n 
URL:https://keystonecentre.com/event/hockey-brandon-u9-u15-tournament/
LOCATION:Assiniboine Credit Union Place\, Keystone Centre\, Brandon\, MB\, Canada
CATEGORIES:Other
ATTACH;FMTTYPE=image/jpeg:https://keystonecentre.com/wp-content/uploads/2024/09/Default-picture.jpg
END:VEVENT
BEGIN:VEVENT
DTSTART;VALUE=DATE:20260131
DTEND;VALUE=DATE:20260201
DTSTAMP:20260420T222118
CREATED:20260129T174204Z
LAST-MODIFIED:20260129T174204Z
UID:253927-1769817600-1769903999@keystonecentre.com
SUMMARY:Sioux Valley Dakota Nation Pow Wow 2026
DESCRIPTION:Date: \nJanuary 31st – February 1st \nLocation: \nCanada Room
URL:https://keystonecentre.com/event/sioux-valley-dakota-nation-pow-wow-2026/
LOCATION:Canada Room\, Keystone Centre\, Brandon\, Manitoba\, Canada
CATEGORIES:Other
ATTACH;FMTTYPE=image/jpeg:https://keystonecentre.com/wp-content/uploads/2024/09/Default-picture.jpg
END:VEVENT
END:VCALENDAR