BEGIN:VCALENDAR
VERSION:2.0
PRODID:-//Keystone Centre - ECPv6.15.16//NONSGML v1.0//EN
CALSCALE:GREGORIAN
METHOD:PUBLISH
X-WR-CALNAME:Keystone Centre
X-ORIGINAL-URL:https://keystonecentre.com
X-WR-CALDESC:Events for Keystone Centre
REFRESH-INTERVAL;VALUE=DURATION:PT1H
X-Robots-Tag:noindex
X-PUBLISHED-TTL:PT1H
BEGIN:VTIMEZONE
TZID:America/Winnipeg
BEGIN:DAYLIGHT
TZOFFSETFROM:-0600
TZOFFSETTO:-0500
TZNAME:CDT
DTSTART:20240310T080000
END:DAYLIGHT
BEGIN:STANDARD
TZOFFSETFROM:-0500
TZOFFSETTO:-0600
TZNAME:CST
DTSTART:20241103T070000
END:STANDARD
BEGIN:DAYLIGHT
TZOFFSETFROM:-0600
TZOFFSETTO:-0500
TZNAME:CDT
DTSTART:20250309T080000
END:DAYLIGHT
BEGIN:STANDARD
TZOFFSETFROM:-0500
TZOFFSETTO:-0600
TZNAME:CST
DTSTART:20251102T070000
END:STANDARD
BEGIN:DAYLIGHT
TZOFFSETFROM:-0600
TZOFFSETTO:-0500
TZNAME:CDT
DTSTART:20260308T080000
END:DAYLIGHT
BEGIN:STANDARD
TZOFFSETFROM:-0500
TZOFFSETTO:-0600
TZNAME:CST
DTSTART:20261101T070000
END:STANDARD
END:VTIMEZONE
BEGIN:VEVENT
DTSTART;VALUE=DATE:20251213
DTEND;VALUE=DATE:20251215
DTSTAMP:20260421T112143
CREATED:20251021T164631Z
LAST-MODIFIED:20251021T164631Z
UID:253463-1765584000-1765756799@keystonecentre.com
SUMMARY:Brandon Gun Show 2025
DESCRIPTION:Date: \nDecember 13th – 14th \nLocation: \nManitoba Room \nEntrance: \nEntrance A
URL:https://keystonecentre.com/event/brandon-gun-show-2025/
LOCATION:Manitoba Room\, Keystone Centre\, Brandon\, MB\, Canada
CATEGORIES:Other
ATTACH;FMTTYPE=image/jpeg:https://keystonecentre.com/wp-content/uploads/2024/09/Default-picture.jpg
END:VEVENT
BEGIN:VEVENT
DTSTART;TZID=America/Winnipeg:20251212T190000
DTEND;TZID=America/Winnipeg:20251212T190000
DTSTAMP:20260421T112143
CREATED:20250813T191944Z
LAST-MODIFIED:20250813T191944Z
UID:253046-1765566000-1765566000@keystonecentre.com
SUMMARY:Kelowna Rockets at Brandon Wheat Kings
DESCRIPTION:Date: \nDecember 12th \nTime: \n7:00 PM \nLocation: \nAssiniboine Credit Union \nEntrance: \nEntrance A\, Canad Inns Upper Link
URL:https://keystonecentre.com/event/kelowna-rockets-at-brandon-wheat-kings/
LOCATION:Assiniboine Credit Union Place\, Keystone Centre\, Brandon\, MB\, Canada
CATEGORIES:Wheat Kings
ATTACH;FMTTYPE=image/jpeg:https://keystonecentre.com/wp-content/uploads/2025/08/10.jpg
END:VEVENT
BEGIN:VEVENT
DTSTART;TZID=America/Winnipeg:20251211T170000
DTEND;TZID=America/Winnipeg:20251211T190000
DTSTAMP:20260421T112143
CREATED:20251022T140733Z
LAST-MODIFIED:20251022T140733Z
UID:253504-1765472400-1765479600@keystonecentre.com
SUMMARY:Holiday Mixer - Brandon Chamber of Commerce
DESCRIPTION:Date: \nDecember 11th \nTime: \n5:00 PM – 7:00 PM \nLocation: \nMNP Hall
URL:https://keystonecentre.com/event/holiday-mixer-brandon-chamber-of-commerce/
LOCATION:MNP Hall\, Keystone Centre\, Brandon\, MB\, Canada
CATEGORIES:Other
ATTACH;FMTTYPE=image/jpeg:https://keystonecentre.com/wp-content/uploads/2024/09/Default-picture.jpg
END:VEVENT
BEGIN:VEVENT
DTSTART;TZID=America/Winnipeg:20251210T190000
DTEND;TZID=America/Winnipeg:20251210T190000
DTSTAMP:20260421T112143
CREATED:20250813T191658Z
LAST-MODIFIED:20250813T191658Z
UID:253044-1765393200-1765393200@keystonecentre.com
SUMMARY:Lethbridge Hurricanes at Brandon Wheat Kings
DESCRIPTION:Date: \nDecember 10th \nTime: \n7:00 PM \nLocation: \nAssiniboine Credit Union Place \nEntrance: \nEntrance A\, Canad Inns Upper link
URL:https://keystonecentre.com/event/lethbridge-hurricanes-at-brandon-wheat-kings-4/
LOCATION:Assiniboine Credit Union Place\, Keystone Centre\, Brandon\, MB\, Canada
CATEGORIES:Wheat Kings
ATTACH;FMTTYPE=image/jpeg:https://keystonecentre.com/wp-content/uploads/2025/08/9.jpg
END:VEVENT
BEGIN:VEVENT
DTSTART;VALUE=DATE:20251210
DTEND;VALUE=DATE:20251211
DTSTAMP:20260421T112143
CREATED:20250924T212328Z
LAST-MODIFIED:20250925T143210Z
UID:253241-1765324800-1765411199@keystonecentre.com
SUMMARY:VOLT Hockey
DESCRIPTION:Date: \nDecember 10th \nLocation: \nCity Square
URL:https://keystonecentre.com/event/volt-hockey-11/
LOCATION:City Square
CATEGORIES:Other
ATTACH;FMTTYPE=image/jpeg:https://keystonecentre.com/wp-content/uploads/2024/09/Default-picture.jpg
END:VEVENT
BEGIN:VEVENT
DTSTART;VALUE=DATE:20251209
DTEND;VALUE=DATE:20251210
DTSTAMP:20260421T112143
CREATED:20251021T215242Z
LAST-MODIFIED:20251021T215242Z
UID:253500-1765238400-1765324799@keystonecentre.com
SUMMARY:Hog Days 2025
DESCRIPTION:Date: \nDecember 9th \nLocation: \nManitoba Room
URL:https://keystonecentre.com/event/hog-days-2025/
LOCATION:Manitoba Room\, Keystone Centre\, Brandon\, MB\, Canada
CATEGORIES:Other
ATTACH;FMTTYPE=image/jpeg:https://keystonecentre.com/wp-content/uploads/2024/09/Default-picture.jpg
END:VEVENT
BEGIN:VEVENT
DTSTART;VALUE=DATE:20251209
DTEND;VALUE=DATE:20251210
DTSTAMP:20260421T112143
CREATED:20250805T163317Z
LAST-MODIFIED:20250805T163317Z
UID:252971-1765238400-1765324799@keystonecentre.com
SUMMARY:Manitoba Shorthorn Association
DESCRIPTION:Date: \nDecember 9th \nLocation: \nBarn 1
URL:https://keystonecentre.com/event/manitoba-shorthorn-association/
LOCATION:Assiniboine Credit Union Agricultural Centre
CATEGORIES:Agriculture
ATTACH;FMTTYPE=image/jpeg:https://keystonecentre.com/wp-content/uploads/2024/09/Default-picture.jpg
END:VEVENT
BEGIN:VEVENT
DTSTART;VALUE=DATE:20251208
DTEND;VALUE=DATE:20251209
DTSTAMP:20260421T112143
CREATED:20250925T161018Z
LAST-MODIFIED:20250925T161018Z
UID:253313-1765152000-1765238399@keystonecentre.com
SUMMARY:VOLT Hockey
DESCRIPTION:Date: \nDecember 8th \nLocation: \nCity Square
URL:https://keystonecentre.com/event/volt-hockey-35/
LOCATION:City Square
CATEGORIES:Other
ATTACH;FMTTYPE=image/jpeg:https://keystonecentre.com/wp-content/uploads/2024/09/Default-picture.jpg
END:VEVENT
BEGIN:VEVENT
DTSTART;VALUE=DATE:20251207
DTEND;VALUE=DATE:20251208
DTSTAMP:20260421T112143
CREATED:20251016T142907Z
LAST-MODIFIED:20251201T184246Z
UID:253454-1765065600-1765151999@keystonecentre.com
SUMMARY:The Wildlife Showcase and Scoring Event
DESCRIPTION:Date: \nDecember 7th \nLocation: \nUCT Pavilion \nEntrance: \nEntrance B
URL:https://keystonecentre.com/event/big-buck-2025/
LOCATION:UCT Pavilion\, Keystone Centre\, Brandon\, MB\, Canada
CATEGORIES:Other
ATTACH;FMTTYPE=image/jpeg:https://keystonecentre.com/wp-content/uploads/2024/09/Default-picture.jpg
END:VEVENT
BEGIN:VEVENT
DTSTART;TZID=America/Winnipeg:20251206T180000
DTEND;TZID=America/Winnipeg:20251206T180000
DTSTAMP:20260421T112143
CREATED:20250813T191413Z
LAST-MODIFIED:20250813T191413Z
UID:253042-1765044000-1765044000@keystonecentre.com
SUMMARY:Moose Jaw Warriors at Brandon Wheat Kings
DESCRIPTION:Date: \nDecember 6th \nTime:  \n6:00 PM \nLocation: \nAssiniboine Credit Union Place \nEntrance: \nEntrance A\, Canad Inns Upper Link
URL:https://keystonecentre.com/event/moose-jaw-warriors-at-brandon-wheat-kings-6/
LOCATION:Assiniboine Credit Union Place\, Keystone Centre\, Brandon\, MB\, Canada
CATEGORIES:Wheat Kings
ATTACH;FMTTYPE=image/jpeg:https://keystonecentre.com/wp-content/uploads/2025/08/8.jpg
END:VEVENT
BEGIN:VEVENT
DTSTART;VALUE=DATE:20251205
DTEND;VALUE=DATE:20251206
DTSTAMP:20260421T112143
CREATED:20250630T182622Z
LAST-MODIFIED:20250924T174208Z
UID:252831-1764892800-1764979199@keystonecentre.com
SUMMARY:Good as Gold Hereford Sale
DESCRIPTION:Date: \nDecember 5th \nLocation:  \nBarn 1 \nEntrance: \nEntrance D
URL:https://keystonecentre.com/event/good-as-gold-hereford-sale/
LOCATION:Assiniboine Credit Union Agricultural Centre
CATEGORIES:Agriculture
ATTACH;FMTTYPE=image/jpeg:https://keystonecentre.com/wp-content/uploads/2024/09/Default-picture.jpg
END:VEVENT
BEGIN:VEVENT
DTSTART;TZID=America/Winnipeg:20251204T080000
DTEND;TZID=America/Winnipeg:20251204T170000
DTSTAMP:20260421T112143
CREATED:20250203T195351Z
LAST-MODIFIED:20250203T195351Z
UID:252451-1764835200-1764867600@keystonecentre.com
SUMMARY:Canadian Blood Services - Blood Donor Clinic
DESCRIPTION:Date: \nDecember 4th \nTime: \n2:00 PM – 8:00 PM \nLocation: \nUCT Pavilion \nEntrance: \nEntrance B
URL:https://keystonecentre.com/event/canadian-blood-services-blood-donor-clinic-19/
LOCATION:UCT Pavilion\, Keystone Centre\, Brandon\, MB\, Canada
CATEGORIES:Other
ATTACH;FMTTYPE=image/jpeg:https://keystonecentre.com/wp-content/uploads/2024/09/Default-picture.jpg
END:VEVENT
BEGIN:VEVENT
DTSTART;TZID=America/Winnipeg:20251203T190000
DTEND;TZID=America/Winnipeg:20251203T190000
DTSTAMP:20260421T112143
CREATED:20250813T191138Z
LAST-MODIFIED:20250813T191138Z
UID:253040-1764788400-1764788400@keystonecentre.com
SUMMARY:Saskatoon Blades at Brandon Wheat Kings
DESCRIPTION:Date: \nDecember 3rd \nTime: \n7:00 PM \nLocation: \nAssiniboine Credit Union Place \nEntrance: \nEntrance A\, Canad Inns Upper Link
URL:https://keystonecentre.com/event/saskatoon-blades-at-brandon-wheat-kings-6/
LOCATION:Assiniboine Credit Union Place\, Keystone Centre\, Brandon\, MB\, Canada
CATEGORIES:Wheat Kings
ATTACH;FMTTYPE=image/jpeg:https://keystonecentre.com/wp-content/uploads/2025/08/6.jpg
END:VEVENT
BEGIN:VEVENT
DTSTART;VALUE=DATE:20251203
DTEND;VALUE=DATE:20251207
DTSTAMP:20260421T112143
CREATED:20250805T164437Z
LAST-MODIFIED:20250805T164437Z
UID:252976-1764720000-1765065599@keystonecentre.com
SUMMARY:Manitoba Magic Angus Sale
DESCRIPTION:Date: \nDecember 3rd – 6th \nLocation: \nCanada Room
URL:https://keystonecentre.com/event/manitoba-magic-angus-sale-3/
LOCATION:Canada Room\, Keystone Centre\, Brandon\, Manitoba\, Canada
CATEGORIES:Agriculture
ATTACH;FMTTYPE=image/jpeg:https://keystonecentre.com/wp-content/uploads/2024/09/Default-picture.jpg
END:VEVENT
BEGIN:VEVENT
DTSTART;VALUE=DATE:20251203
DTEND;VALUE=DATE:20251204
DTSTAMP:20260421T112143
CREATED:20251021T214828Z
LAST-MODIFIED:20251021T214828Z
UID:253498-1764720000-1764806399@keystonecentre.com
SUMMARY:Manitoba Shorthorn Association - Jack Auction Group
DESCRIPTION:Date: \nDecember 3rd \nLocation: \nBarn 1
URL:https://keystonecentre.com/event/manitoba-shorthorn-association-jack-auction-group/
LOCATION:Assiniboine Credit Union Agricultural Centre
CATEGORIES:Agriculture
ATTACH;FMTTYPE=image/jpeg:https://keystonecentre.com/wp-content/uploads/2024/09/Default-picture.jpg
END:VEVENT
BEGIN:VEVENT
DTSTART;VALUE=DATE:20251203
DTEND;VALUE=DATE:20251204
DTSTAMP:20260421T112143
CREATED:20250924T210129Z
LAST-MODIFIED:20250925T142133Z
UID:253232-1764720000-1764806399@keystonecentre.com
SUMMARY:VOLT Hockey
DESCRIPTION:Date: \nDecember 3rd \nLocation: \nCity Square
URL:https://keystonecentre.com/event/volt-hockey-8/
LOCATION:City Square
CATEGORIES:Other
ATTACH;FMTTYPE=image/jpeg:https://keystonecentre.com/wp-content/uploads/2024/09/Default-picture.jpg
END:VEVENT
BEGIN:VEVENT
DTSTART;TZID=America/Winnipeg:20251202T130000
DTEND;TZID=America/Winnipeg:20251202T140000
DTSTAMP:20260421T112143
CREATED:20250528T142827Z
LAST-MODIFIED:20250528T142827Z
UID:252792-1764680400-1764684000@keystonecentre.com
SUMMARY:47th Keystone Konnection Simmental Sale
DESCRIPTION:Date: \nDecember 2nd \nTime: \n1:00 PM – 2:00 PM \nLocation: \nCanada Room \nEntrance: \nEntrance D
URL:https://keystonecentre.com/event/47th-keystone-konnection-simmental-sale/
LOCATION:Canada Room\, Keystone Centre\, Brandon\, Manitoba\, Canada
CATEGORIES:Agriculture
ATTACH;FMTTYPE=image/jpeg:https://keystonecentre.com/wp-content/uploads/2024/09/Default-picture.jpg
END:VEVENT
BEGIN:VEVENT
DTSTART;VALUE=DATE:20251201
DTEND;VALUE=DATE:20251203
DTSTAMP:20260421T112143
CREATED:20251008T143151Z
LAST-MODIFIED:20251008T143151Z
UID:253437-1764547200-1764719999@keystonecentre.com
SUMMARY:Agility Dogs
DESCRIPTION:Date: \nDecember 1st – 2nd \nLocation: \nBarn 3 \nEntrance: \nNorth Walk-through Doors
URL:https://keystonecentre.com/event/agility-dogs-12/
LOCATION:Assiniboine Credit Union Agricultural Centre
CATEGORIES:Agriculture
ATTACH;FMTTYPE=image/jpeg:https://keystonecentre.com/wp-content/uploads/2024/09/Default-picture.jpg
END:VEVENT
BEGIN:VEVENT
DTSTART;VALUE=DATE:20251201
DTEND;VALUE=DATE:20251203
DTSTAMP:20260421T112143
CREATED:20250527T213556Z
LAST-MODIFIED:20250527T213556Z
UID:252790-1764547200-1764719999@keystonecentre.com
SUMMARY:Manitoba Watersheds Conference
DESCRIPTION:Date: \nDecember 1st – 2nd \nLocation: \nUCT Pavilion\, Manitoba Room\, MNP Hall\, Salon A \nEntrance: \nEntrance A
URL:https://keystonecentre.com/event/manitoba-watersheds-conference/
LOCATION:UCT Pavilion\, Keystone Centre\, Brandon\, MB\, Canada
CATEGORIES:Other
ATTACH;FMTTYPE=image/jpeg:https://keystonecentre.com/wp-content/uploads/2024/09/Default-picture.jpg
END:VEVENT
BEGIN:VEVENT
DTSTART;VALUE=DATE:20251201
DTEND;VALUE=DATE:20251202
DTSTAMP:20260421T112143
CREATED:20250925T160931Z
LAST-MODIFIED:20250925T160931Z
UID:253311-1764547200-1764633599@keystonecentre.com
SUMMARY:VOLT Hockey
DESCRIPTION:Date: \nDecember 1st \nLocation: \nCity Square
URL:https://keystonecentre.com/event/volt-hockey-34/
LOCATION:City Square
CATEGORIES:Other
ATTACH;FMTTYPE=image/jpeg:https://keystonecentre.com/wp-content/uploads/2024/09/Default-picture.jpg
END:VEVENT
BEGIN:VEVENT
DTSTART;TZID=America/Winnipeg:20251128T190000
DTEND;TZID=America/Winnipeg:20251128T190000
DTSTAMP:20260421T112143
CREATED:20250813T190812Z
LAST-MODIFIED:20250813T190812Z
UID:253038-1764356400-1764356400@keystonecentre.com
SUMMARY:Prince Albert Raiders at Brandon Wheat Kings
DESCRIPTION:Date: \nNovember 28th \nTime: \n7:00 PM \nLocation: \nAssiniboine Credit Union Place \nEntrance: \nEntrance A\, Canad Inns Upper Link
URL:https://keystonecentre.com/event/prince-albert-raiders-at-brandon-wheat-kings-5/
LOCATION:Assiniboine Credit Union Place\, Keystone Centre\, Brandon\, MB\, Canada
CATEGORIES:Wheat Kings
ATTACH;FMTTYPE=image/jpeg:https://keystonecentre.com/wp-content/uploads/2025/08/5.jpg
END:VEVENT
BEGIN:VEVENT
DTSTART;VALUE=DATE:20251128
DTEND;VALUE=DATE:20251129
DTSTAMP:20260421T112143
CREATED:20251008T134113Z
LAST-MODIFIED:20251008T134113Z
UID:253425-1764288000-1764374399@keystonecentre.com
SUMMARY:Brandon Futsol
DESCRIPTION:Date: \nNovember 28th \nLocation: \nCity Square
URL:https://keystonecentre.com/event/brandon-futsol-16/
LOCATION:City Square
CATEGORIES:Other
ATTACH;FMTTYPE=image/jpeg:https://keystonecentre.com/wp-content/uploads/2024/09/Default-picture.jpg
END:VEVENT
BEGIN:VEVENT
DTSTART;VALUE=DATE:20251127
DTEND;VALUE=DATE:20251128
DTSTAMP:20260421T112143
CREATED:20251124T201342Z
LAST-MODIFIED:20251124T201342Z
UID:253714-1764201600-1764287999@keystonecentre.com
SUMMARY:4-H Open Ride
DESCRIPTION:Date: \nNovember 27th \nLocation: \nBarn 3 \nEntrance: \nNorth walk-through doors
URL:https://keystonecentre.com/event/4-h-open-ride/
LOCATION:Indoor Show Ring\, Keystone Centre\, Brandon\, MB\, Canada
CATEGORIES:Agriculture
ATTACH;FMTTYPE=image/jpeg:https://keystonecentre.com/wp-content/uploads/2024/09/Default-picture.jpg
END:VEVENT
BEGIN:VEVENT
DTSTART;VALUE=DATE:20251126
DTEND;VALUE=DATE:20251127
DTSTAMP:20260421T112143
CREATED:20251124T201227Z
LAST-MODIFIED:20251124T201227Z
UID:253712-1764115200-1764201599@keystonecentre.com
SUMMARY:Open Barrel Ride
DESCRIPTION:Date: \nNovember 26th \nLocation: \nIndoor Show Ring \nEntrance: \nNorth walk-through doors
URL:https://keystonecentre.com/event/open-barrel-ride-2/
LOCATION:Indoor Show Ring\, Keystone Centre\, Brandon\, MB\, Canada
CATEGORIES:Agriculture
ATTACH;FMTTYPE=image/jpeg:https://keystonecentre.com/wp-content/uploads/2024/09/Default-picture.jpg
END:VEVENT
BEGIN:VEVENT
DTSTART;VALUE=DATE:20251126
DTEND;VALUE=DATE:20251127
DTSTAMP:20260421T112143
CREATED:20250924T204912Z
LAST-MODIFIED:20250925T142054Z
UID:253230-1764115200-1764201599@keystonecentre.com
SUMMARY:VOLT Hockey
DESCRIPTION:Date: \nNovember 26th \nLocation: \nCity Square
URL:https://keystonecentre.com/event/volt-hockey-7/
LOCATION:City Square
CATEGORIES:Other
ATTACH;FMTTYPE=image/jpeg:https://keystonecentre.com/wp-content/uploads/2024/09/Default-picture.jpg
END:VEVENT
BEGIN:VEVENT
DTSTART;VALUE=DATE:20251125
DTEND;VALUE=DATE:20251126
DTSTAMP:20260421T112143
CREATED:20251008T134042Z
LAST-MODIFIED:20251008T134042Z
UID:253423-1764028800-1764115199@keystonecentre.com
SUMMARY:Brandon Futsol
DESCRIPTION:Date: \nNovember 25th \nLocation: \nCity Square
URL:https://keystonecentre.com/event/brandon-futsol-15/
LOCATION:City Square
CATEGORIES:Other
ATTACH;FMTTYPE=image/jpeg:https://keystonecentre.com/wp-content/uploads/2024/09/Default-picture.jpg
END:VEVENT
BEGIN:VEVENT
DTSTART;VALUE=DATE:20251124
DTEND;VALUE=DATE:20251126
DTSTAMP:20260421T112143
CREATED:20251008T143042Z
LAST-MODIFIED:20251008T143042Z
UID:253435-1763942400-1764115199@keystonecentre.com
SUMMARY:Agility Dogs
DESCRIPTION:Date: \nNovember 24th – 25th \nLocation: \nBarn 3 \nEntrance: \nNorth Walk-through Doors
URL:https://keystonecentre.com/event/agility-dogs-11/
LOCATION:Assiniboine Credit Union Agricultural Centre
CATEGORIES:Agriculture
ATTACH;FMTTYPE=image/jpeg:https://keystonecentre.com/wp-content/uploads/2024/09/Default-picture.jpg
END:VEVENT
BEGIN:VEVENT
DTSTART;VALUE=DATE:20251124
DTEND;VALUE=DATE:20251125
DTSTAMP:20260421T112143
CREATED:20250925T160808Z
LAST-MODIFIED:20250925T160808Z
UID:253309-1763942400-1764028799@keystonecentre.com
SUMMARY:VOLT Hockey
DESCRIPTION:Date: \nNovember 24th \nLocation: \nCity Square
URL:https://keystonecentre.com/event/volt-hockey-33/
LOCATION:City Square
CATEGORIES:Other
ATTACH;FMTTYPE=image/jpeg:https://keystonecentre.com/wp-content/uploads/2024/09/Default-picture.jpg
END:VEVENT
BEGIN:VEVENT
DTSTART;VALUE=DATE:20251121
DTEND;VALUE=DATE:20251124
DTSTAMP:20260421T112143
CREATED:20250528T143525Z
LAST-MODIFIED:20250528T143525Z
UID:252796-1763683200-1763942399@keystonecentre.com
SUMMARY:Campbell's Deck the Stalls
DESCRIPTION:Date: \nNovember 21st – 23rd \nLocation: \nIndoor Show Ring \nEntrance: \nEntrance D
URL:https://keystonecentre.com/event/campbells-deck-the-stalls-2/
LOCATION:Indoor Show Ring\, Keystone Centre\, Brandon\, MB\, Canada
CATEGORIES:Agriculture
ATTACH;FMTTYPE=image/jpeg:https://keystonecentre.com/wp-content/uploads/2024/09/Default-picture.jpg
END:VEVENT
BEGIN:VEVENT
DTSTART;VALUE=DATE:20251121
DTEND;VALUE=DATE:20251122
DTSTAMP:20260421T112143
CREATED:20251008T134009Z
LAST-MODIFIED:20251008T134009Z
UID:253421-1763683200-1763769599@keystonecentre.com
SUMMARY:Brandon Futsol
DESCRIPTION:Date: \nNovember 21st \nLocation: \nCity Square
URL:https://keystonecentre.com/event/brandon-futsol-14/
LOCATION:City Square
CATEGORIES:Other
ATTACH;FMTTYPE=image/jpeg:https://keystonecentre.com/wp-content/uploads/2024/09/Default-picture.jpg
END:VEVENT
END:VCALENDAR