BEGIN:VCALENDAR
VERSION:2.0
PRODID:-//Keystone Centre - ECPv6.15.16//NONSGML v1.0//EN
CALSCALE:GREGORIAN
METHOD:PUBLISH
X-WR-CALNAME:Keystone Centre
X-ORIGINAL-URL:https://keystonecentre.com
X-WR-CALDESC:Events for Keystone Centre
REFRESH-INTERVAL;VALUE=DURATION:PT1H
X-Robots-Tag:noindex
X-PUBLISHED-TTL:PT1H
BEGIN:VTIMEZONE
TZID:America/Winnipeg
BEGIN:DAYLIGHT
TZOFFSETFROM:-0600
TZOFFSETTO:-0500
TZNAME:CDT
DTSTART:20240310T080000
END:DAYLIGHT
BEGIN:STANDARD
TZOFFSETFROM:-0500
TZOFFSETTO:-0600
TZNAME:CST
DTSTART:20241103T070000
END:STANDARD
BEGIN:DAYLIGHT
TZOFFSETFROM:-0600
TZOFFSETTO:-0500
TZNAME:CDT
DTSTART:20250309T080000
END:DAYLIGHT
BEGIN:STANDARD
TZOFFSETFROM:-0500
TZOFFSETTO:-0600
TZNAME:CST
DTSTART:20251102T070000
END:STANDARD
BEGIN:DAYLIGHT
TZOFFSETFROM:-0600
TZOFFSETTO:-0500
TZNAME:CDT
DTSTART:20260308T080000
END:DAYLIGHT
BEGIN:STANDARD
TZOFFSETFROM:-0500
TZOFFSETTO:-0600
TZNAME:CST
DTSTART:20261101T070000
END:STANDARD
END:VTIMEZONE
BEGIN:VEVENT
DTSTART;VALUE=DATE:20251024
DTEND;VALUE=DATE:20251025
DTSTAMP:20260422T175511
CREATED:20251008T133252Z
LAST-MODIFIED:20251008T133252Z
UID:253405-1761264000-1761350399@keystonecentre.com
SUMMARY:Brandon Futsol
DESCRIPTION:Date: \nOctober 24th \nLocation: \nCity Square
URL:https://keystonecentre.com/event/brandon-futsol-6/
LOCATION:City Square
CATEGORIES:Other
ATTACH;FMTTYPE=image/jpeg:https://keystonecentre.com/wp-content/uploads/2024/09/Default-picture.jpg
END:VEVENT
BEGIN:VEVENT
DTSTART;VALUE=DATE:20251023
DTEND;VALUE=DATE:20251024
DTSTAMP:20260422T175511
CREATED:20250926T175609Z
LAST-MODIFIED:20250926T175609Z
UID:253365-1761177600-1761263999@keystonecentre.com
SUMMARY:Brandon Youth Floorball
DESCRIPTION:Date: \nOctober 23rd \nLocation: \nCity Square \n 
URL:https://keystonecentre.com/event/brandon-youth-floorball-8/
LOCATION:City Square
CATEGORIES:Other
ATTACH;FMTTYPE=image/jpeg:https://keystonecentre.com/wp-content/uploads/2024/09/Default-picture.jpg
END:VEVENT
BEGIN:VEVENT
DTSTART;TZID=America/Winnipeg:20251022T090000
DTEND;TZID=America/Winnipeg:20251022T090000
DTSTAMP:20260422T175511
CREATED:20250424T160350Z
LAST-MODIFIED:20250424T160350Z
UID:252691-1761123600-1761123600@keystonecentre.com
SUMMARY:Visionary Futures Entrepreneur Conference
DESCRIPTION:Date: \nOctober 22nd \nTime: \n9:00 AM \nLocation: \nMNP Hall \nEntrance: \nEntrance A
URL:https://keystonecentre.com/event/visionary-futures-entrepreneur-conference/
LOCATION:MNP Hall\, Keystone Centre\, Brandon\, MB\, Canada
CATEGORIES:Other
ATTACH;FMTTYPE=image/jpeg:https://keystonecentre.com/wp-content/uploads/2024/09/Default-picture.jpg
END:VEVENT
BEGIN:VEVENT
DTSTART;VALUE=DATE:20251022
DTEND;VALUE=DATE:20251023
DTSTAMP:20260422T175511
CREATED:20250924T204327Z
LAST-MODIFIED:20250925T141702Z
UID:253222-1761091200-1761177599@keystonecentre.com
SUMMARY:VOLT Hockey
DESCRIPTION:Date: \nOctober 22nd \nLocation: \nCity Square
URL:https://keystonecentre.com/event/volt-hockey-3/
LOCATION:City Square
CATEGORIES:Other
ATTACH;FMTTYPE=image/jpeg:https://keystonecentre.com/wp-content/uploads/2024/09/Default-picture.jpg
END:VEVENT
END:VCALENDAR