BEGIN:VCALENDAR
VERSION:2.0
PRODID:-//Keystone Centre - ECPv6.15.16//NONSGML v1.0//EN
CALSCALE:GREGORIAN
METHOD:PUBLISH
X-WR-CALNAME:Keystone Centre
X-ORIGINAL-URL:https://keystonecentre.com
X-WR-CALDESC:Events for Keystone Centre
REFRESH-INTERVAL;VALUE=DURATION:PT1H
X-Robots-Tag:noindex
X-PUBLISHED-TTL:PT1H
BEGIN:VTIMEZONE
TZID:America/Winnipeg
BEGIN:DAYLIGHT
TZOFFSETFROM:-0600
TZOFFSETTO:-0500
TZNAME:CDT
DTSTART:20250309T080000
END:DAYLIGHT
BEGIN:STANDARD
TZOFFSETFROM:-0500
TZOFFSETTO:-0600
TZNAME:CST
DTSTART:20251102T070000
END:STANDARD
BEGIN:DAYLIGHT
TZOFFSETFROM:-0600
TZOFFSETTO:-0500
TZNAME:CDT
DTSTART:20260308T080000
END:DAYLIGHT
BEGIN:STANDARD
TZOFFSETFROM:-0500
TZOFFSETTO:-0600
TZNAME:CST
DTSTART:20261101T070000
END:STANDARD
BEGIN:DAYLIGHT
TZOFFSETFROM:-0600
TZOFFSETTO:-0500
TZNAME:CDT
DTSTART:20270314T080000
END:DAYLIGHT
BEGIN:STANDARD
TZOFFSETFROM:-0500
TZOFFSETTO:-0600
TZNAME:CST
DTSTART:20271107T070000
END:STANDARD
END:VTIMEZONE
BEGIN:VEVENT
DTSTART;VALUE=DATE:20260413
DTEND;VALUE=DATE:20260414
DTSTAMP:20260420T223421
CREATED:20250925T163720Z
LAST-MODIFIED:20250925T163720Z
UID:253337-1776038400-1776124799@keystonecentre.com
SUMMARY:VOLT Hockey
DESCRIPTION:Date: \nApril 13th \nLocation: \nBrandon Curling Club
URL:https://keystonecentre.com/event/volt-hockey-47/
LOCATION:Brandon Curling Club\, Keystone Centre\, Brandon\, Manitoba\, Canada
CATEGORIES:Other
ATTACH;FMTTYPE=image/jpeg:https://keystonecentre.com/wp-content/uploads/2024/09/Default-picture.jpg
END:VEVENT
BEGIN:VEVENT
DTSTART;TZID=America/Winnipeg:20260411T100000
DTEND;TZID=America/Winnipeg:20260412T170000
DTSTAMP:20260420T223421
CREATED:20260210T143854Z
LAST-MODIFIED:20260325T150358Z
UID:253977-1775901600-1776013200@keystonecentre.com
SUMMARY:Brandon’s Big One Arts & Craft Sale – Spring Edition
DESCRIPTION:Date: \nApril 11th – 12th \nTime: \n10:00 AM – 5:00 PM \nAdmission: \n$5 (12 & under free) \nLocation: \nManitoba Room \nEntrance: \nEntrance A \n 
URL:https://keystonecentre.com/event/brandons-big-one-spring-edition/
LOCATION:Manitoba Room\, Keystone Centre\, Brandon\, MB\, Canada
CATEGORIES:Other
ATTACH;FMTTYPE=image/jpeg:https://keystonecentre.com/wp-content/uploads/2024/09/Default-picture.jpg
END:VEVENT
BEGIN:VEVENT
DTSTART;VALUE=DATE:20260410
DTEND;VALUE=DATE:20260413
DTSTAMP:20260420T223421
CREATED:20251028T161739Z
LAST-MODIFIED:20260406T170050Z
UID:253537-1775779200-1776038399@keystonecentre.com
SUMMARY:COKC Agility Trials
DESCRIPTION:Date: \nApril 10th – 12th \nLocation: \nBarn 3 \nEntrance: \nEntrance C
URL:https://keystonecentre.com/event/cokc-agility-trials-2/
LOCATION:Assiniboine Credit Union Agricultural Centre
CATEGORIES:Agriculture
ATTACH;FMTTYPE=image/jpeg:https://keystonecentre.com/wp-content/uploads/2024/09/Default-picture.jpg
END:VEVENT
BEGIN:VEVENT
DTSTART;VALUE=DATE:20260410
DTEND;VALUE=DATE:20260413
DTSTAMP:20260420T223421
CREATED:20251028T161523Z
LAST-MODIFIED:20260406T170005Z
UID:253535-1775779200-1776038399@keystonecentre.com
SUMMARY:Western Riders
DESCRIPTION:Date: \nApril 10th – 12th \nLocation: \nIndoor Show Ring \nEntrance: \nEntrance C
URL:https://keystonecentre.com/event/western-riders-7/
LOCATION:Indoor Show Ring\, Keystone Centre\, Brandon\, MB\, Canada
CATEGORIES:Agriculture
ATTACH;FMTTYPE=image/jpeg:https://keystonecentre.com/wp-content/uploads/2024/09/Default-picture.jpg
END:VEVENT
BEGIN:VEVENT
DTSTART;TZID=America/Winnipeg:20260409T140000
DTEND;TZID=America/Winnipeg:20260409T200000
DTSTAMP:20260420T223421
CREATED:20260108T203147Z
LAST-MODIFIED:20260108T203309Z
UID:253869-1775743200-1775764800@keystonecentre.com
SUMMARY:Canadian Blood Services - Blood Donor Clinic
DESCRIPTION:Date: \nApril 9th \nTime: \n2:00 PM – 8:00 PM \nLocation: \nUCT Pavilion \nEntrance: \nEntrance B
URL:https://keystonecentre.com/event/canadian-blood-services-blood-donor-clinic-2026/
LOCATION:UCT Pavilion\, Keystone Centre\, Brandon\, MB\, Canada
CATEGORIES:Other
ATTACH;FMTTYPE=image/jpeg:https://keystonecentre.com/wp-content/uploads/2024/09/Default-picture.jpg
END:VEVENT
BEGIN:VEVENT
DTSTART;VALUE=DATE:20260330
DTEND;VALUE=DATE:20260405
DTSTAMP:20260420T223421
CREATED:20250924T202126Z
LAST-MODIFIED:20250924T204202Z
UID:253206-1774828800-1775347199@keystonecentre.com
SUMMARY:Royal Manitoba Winter Fair 2026
DESCRIPTION:Date: \nMarch 30th – April 4th \nLocation: \nKeystone Centre \nEntrance: \nEntrance A
URL:https://keystonecentre.com/event/royal-manitoba-winter-fair-2026/
LOCATION:Keystone Centre\, #1 1175 18th Street \,\, Brandon\, Manitoba\, R7A 7C5\, Canada
CATEGORIES:Other
ATTACH;FMTTYPE=image/jpeg:https://keystonecentre.com/wp-content/uploads/2024/09/Default-picture.jpg
END:VEVENT
BEGIN:VEVENT
DTSTART;VALUE=DATE:20260325
DTEND;VALUE=DATE:20260326
DTSTAMP:20260420T223421
CREATED:20250925T154418Z
LAST-MODIFIED:20250925T154448Z
UID:253285-1774396800-1774483199@keystonecentre.com
SUMMARY:VOLT Hockey
DESCRIPTION:Date: \nMarch 25th \nLocation: \nBrandon Curling Club
URL:https://keystonecentre.com/event/volt-hockey-21/
LOCATION:Brandon Curling Club\, Keystone Centre\, Brandon\, Manitoba\, Canada
CATEGORIES:Other
ATTACH;FMTTYPE=image/jpeg:https://keystonecentre.com/wp-content/uploads/2024/09/Default-picture.jpg
END:VEVENT
BEGIN:VEVENT
DTSTART;VALUE=DATE:20260324
DTEND;VALUE=DATE:20260325
DTSTAMP:20260420T223421
CREATED:20260129T184956Z
LAST-MODIFIED:20260129T223957Z
UID:253942-1774310400-1774396799@keystonecentre.com
SUMMARY:Brandon Youth Floorball
DESCRIPTION:Date: \nMarch 24th \nLocation: \nCity Square
URL:https://keystonecentre.com/event/brandon-youth-floorball-13/
LOCATION:City Square
CATEGORIES:Other
ATTACH;FMTTYPE=image/jpeg:https://keystonecentre.com/wp-content/uploads/2024/09/Default-picture.jpg
END:VEVENT
BEGIN:VEVENT
DTSTART;VALUE=DATE:20260323
DTEND;VALUE=DATE:20260324
DTSTAMP:20260420T223421
CREATED:20250925T163107Z
LAST-MODIFIED:20250925T163107Z
UID:253335-1774224000-1774310399@keystonecentre.com
SUMMARY:VOLT Hockey
DESCRIPTION:Date: \nMarch 23rd \nLocation: \nBrandon Curling Club
URL:https://keystonecentre.com/event/volt-hockey-46/
LOCATION:Brandon Curling Club\, Keystone Centre\, Brandon\, Manitoba\, Canada
CATEGORIES:Other
ATTACH;FMTTYPE=image/jpeg:https://keystonecentre.com/wp-content/uploads/2024/09/Default-picture.jpg
END:VEVENT
BEGIN:VEVENT
DTSTART;TZID=America/Winnipeg:20260321T180000
DTEND;TZID=America/Winnipeg:20260321T180000
DTSTAMP:20260420T223421
CREATED:20250813T205540Z
LAST-MODIFIED:20250813T205540Z
UID:253077-1774116000-1774116000@keystonecentre.com
SUMMARY:Regina Pats at Brandon Wheat Kings
DESCRIPTION:Date: \nMarch 21st \nTime: \n6:00 PM \nLocation: \nAssiniboine Credit Union Place \nEntrance: \nEntrance A\, Canad Inns Upper Link
URL:https://keystonecentre.com/event/regina-pats-at-brandon-wheat-kings-8/
LOCATION:Assiniboine Credit Union Place\, Keystone Centre\, Brandon\, MB\, Canada
CATEGORIES:Wheat Kings
ATTACH;FMTTYPE=image/jpeg:https://keystonecentre.com/wp-content/uploads/2025/08/10.jpg
END:VEVENT
BEGIN:VEVENT
DTSTART;TZID=America/Winnipeg:20260321T100000
DTEND;TZID=America/Winnipeg:20260322T200000
DTSTAMP:20260420T223421
CREATED:20260108T202554Z
LAST-MODIFIED:20260304T020506Z
UID:253863-1774087200-1774209600@keystonecentre.com
SUMMARY:Westman Gaming Expo 2026
DESCRIPTION:Date: \nMarch 21st – March 22nd \nTime:  \n10:00 AM – 8:00 PM each day \nLocation: \nManitoba Room & UCT Pavilion
URL:https://keystonecentre.com/event/westman-gaming-expo-2/
LOCATION:Manitoba Room\, Keystone Centre\, Brandon\, MB\, Canada
CATEGORIES:Other
ATTACH;FMTTYPE=image/jpeg:https://keystonecentre.com/wp-content/uploads/2024/09/Default-picture.jpg
END:VEVENT
BEGIN:VEVENT
DTSTART;VALUE=DATE:20260320
DTEND;VALUE=DATE:20260323
DTSTAMP:20260420T223421
CREATED:20260129T184102Z
LAST-MODIFIED:20260129T224830Z
UID:253934-1773964800-1774223999@keystonecentre.com
SUMMARY:Sofa King's Tournament 2026
DESCRIPTION:Date: \nMarch 20th – 22nd \nLocation: \nAssiniboine Credit Union Place/Enns Brothers Arena \nEntrance: \nEntrance A\, B
URL:https://keystonecentre.com/event/sofa-kings-tournament-2026/
LOCATION:Assiniboine Credit Union Place\, Keystone Centre\, Brandon\, MB\, Canada
CATEGORIES:Other
ATTACH;FMTTYPE=image/jpeg:https://keystonecentre.com/wp-content/uploads/2024/09/Default-picture.jpg
END:VEVENT
BEGIN:VEVENT
DTSTART;VALUE=DATE:20260318
DTEND;VALUE=DATE:20260319
DTSTAMP:20260420T223421
CREATED:20250925T154339Z
LAST-MODIFIED:20250925T154521Z
UID:253283-1773792000-1773878399@keystonecentre.com
SUMMARY:VOLT Hockey
DESCRIPTION:Date: \nMarch 18th \nLocation: \nBrandon Curling Club
URL:https://keystonecentre.com/event/volt-hockey-19/
LOCATION:Brandon Curling Club\, Keystone Centre\, Brandon\, Manitoba\, Canada
CATEGORIES:Other
ATTACH;FMTTYPE=image/jpeg:https://keystonecentre.com/wp-content/uploads/2024/09/Default-picture.jpg
END:VEVENT
BEGIN:VEVENT
DTSTART;VALUE=DATE:20260317
DTEND;VALUE=DATE:20260319
DTSTAMP:20260420T223421
CREATED:20251021T215517Z
LAST-MODIFIED:20251021T215517Z
UID:253502-1773705600-1773878399@keystonecentre.com
SUMMARY:Brandon Career Symposium
DESCRIPTION:Date: \nMarch 17th – 18th \nLocation: \nManitoba Room & UCT Pavilion
URL:https://keystonecentre.com/event/brandon-career-symposium/
LOCATION:Manitoba Room\, Keystone Centre\, Brandon\, MB\, Canada
CATEGORIES:Other
ATTACH;FMTTYPE=image/jpeg:https://keystonecentre.com/wp-content/uploads/2024/09/Default-picture.jpg
END:VEVENT
BEGIN:VEVENT
DTSTART;VALUE=DATE:20260316
DTEND;VALUE=DATE:20260317
DTSTAMP:20260420T223421
CREATED:20250925T163036Z
LAST-MODIFIED:20250925T163036Z
UID:253333-1773619200-1773705599@keystonecentre.com
SUMMARY:VOLT Hockey
DESCRIPTION:Date: \nMarch 16th \nLocation: \nBrandon Curling Club
URL:https://keystonecentre.com/event/volt-hockey-45/
LOCATION:Brandon Curling Club\, Keystone Centre\, Brandon\, Manitoba\, Canada
CATEGORIES:Other
ATTACH;FMTTYPE=image/jpeg:https://keystonecentre.com/wp-content/uploads/2024/09/Default-picture.jpg
END:VEVENT
BEGIN:VEVENT
DTSTART;VALUE=DATE:20260314
DTEND;VALUE=DATE:20260316
DTSTAMP:20260420T223421
CREATED:20251021T165331Z
LAST-MODIFIED:20260309T200344Z
UID:253468-1773446400-1773619199@keystonecentre.com
SUMMARY:COKC Agility Trials
DESCRIPTION:Date: \nMarch 14th – 15th \nLocation: \nIndoor Show Ring \nEntrance: \nEntrance C & D
URL:https://keystonecentre.com/event/cokc-agility-trials/
LOCATION:Indoor Show Ring\, Keystone Centre\, Brandon\, MB\, Canada
CATEGORIES:Agriculture
ATTACH;FMTTYPE=image/jpeg:https://keystonecentre.com/wp-content/uploads/2024/09/Default-picture.jpg
END:VEVENT
BEGIN:VEVENT
DTSTART;VALUE=DATE:20260313
DTEND;VALUE=DATE:20260316
DTSTAMP:20260420T223421
CREATED:20251021T164933Z
LAST-MODIFIED:20260309T200342Z
UID:253466-1773360000-1773619199@keystonecentre.com
SUMMARY:Western Riders
DESCRIPTION:Date: \nMarch 13th – 15th \nLocation: \nBarns 3 & 4 \nEntrance: \nEntrance C & D
URL:https://keystonecentre.com/event/western-riders-5/
LOCATION:Assiniboine Credit Union Agricultural Centre
CATEGORIES:Agriculture
ATTACH;FMTTYPE=image/jpeg:https://keystonecentre.com/wp-content/uploads/2024/09/Default-picture.jpg
END:VEVENT
BEGIN:VEVENT
DTSTART;VALUE=DATE:20260311
DTEND;VALUE=DATE:20260312
DTSTAMP:20260420T223421
CREATED:20250925T164949Z
LAST-MODIFIED:20250925T164949Z
UID:253347-1773187200-1773273599@keystonecentre.com
SUMMARY:Women of Westman W.O.W 2026
DESCRIPTION:Date: \nMarch 11th \nLocation: \nUCT Pavilion \nEntrance: \nEntrance B
URL:https://keystonecentre.com/event/women-of-westman-w-o-w-2026/
LOCATION:UCT Pavilion\, Keystone Centre\, Brandon\, MB\, Canada
CATEGORIES:Other
ATTACH;FMTTYPE=image/jpeg:https://keystonecentre.com/wp-content/uploads/2024/09/Default-picture.jpg
END:VEVENT
BEGIN:VEVENT
DTSTART;VALUE=DATE:20260311
DTEND;VALUE=DATE:20260312
DTSTAMP:20260420T223421
CREATED:20250925T154012Z
LAST-MODIFIED:20250925T154130Z
UID:253280-1773187200-1773273599@keystonecentre.com
SUMMARY:VOLT Hockey
DESCRIPTION:Date: \nMarch 11th \nLocation: \nBrandon Curling Club \n 
URL:https://keystonecentre.com/event/volt-hockey-20/
LOCATION:Brandon Curling Club\, Keystone Centre\, Brandon\, Manitoba\, Canada
CATEGORIES:Other
ATTACH;FMTTYPE=image/jpeg:https://keystonecentre.com/wp-content/uploads/2024/09/Default-picture.jpg
END:VEVENT
BEGIN:VEVENT
DTSTART;VALUE=DATE:20260310
DTEND;VALUE=DATE:20260311
DTSTAMP:20260420T223421
CREATED:20260129T184940Z
LAST-MODIFIED:20260129T224035Z
UID:253940-1773100800-1773187199@keystonecentre.com
SUMMARY:Brandon Youth Floorball
DESCRIPTION:Date: \nMarch 10th \nLocation: \nCity Square
URL:https://keystonecentre.com/event/brandon-youth-floorball-12/
LOCATION:City Square
CATEGORIES:Other
ATTACH;FMTTYPE=image/jpeg:https://keystonecentre.com/wp-content/uploads/2024/09/Default-picture.jpg
END:VEVENT
BEGIN:VEVENT
DTSTART;VALUE=DATE:20260309
DTEND;VALUE=DATE:20260310
DTSTAMP:20260420T223421
CREATED:20250925T162300Z
LAST-MODIFIED:20250925T162300Z
UID:253331-1773014400-1773100799@keystonecentre.com
SUMMARY:VOLT Hockey
DESCRIPTION:Date: \nMarch 9th \nLocation: \nBrandon Curling Club
URL:https://keystonecentre.com/event/volt-hockey-44/
LOCATION:Brandon Curling Club\, Keystone Centre\, Brandon\, Manitoba\, Canada
CATEGORIES:Other
ATTACH;FMTTYPE=image/jpeg:https://keystonecentre.com/wp-content/uploads/2024/09/Default-picture.jpg
END:VEVENT
BEGIN:VEVENT
DTSTART;TZID=America/Winnipeg:20260307T180000
DTEND;TZID=America/Winnipeg:20260307T180000
DTSTAMP:20260420T223421
CREATED:20250813T205311Z
LAST-MODIFIED:20250813T205311Z
UID:253075-1772906400-1772906400@keystonecentre.com
SUMMARY:Swift Current Broncos at Brandon Wheat Kings
DESCRIPTION:Date: \nMarch 7th \nTime: \n6:00 PM \nLocation: \nAssiniboine Credit Union Place \nEntrance: \nEntrance A\, Canad Inns Upper Link
URL:https://keystonecentre.com/event/swift-current-broncos-at-brandon-wheat-kings-6/
LOCATION:Assiniboine Credit Union Place\, Keystone Centre\, Brandon\, MB\, Canada
CATEGORIES:Wheat Kings
ATTACH;FMTTYPE=image/jpeg:https://keystonecentre.com/wp-content/uploads/2025/08/8.jpg
END:VEVENT
BEGIN:VEVENT
DTSTART;VALUE=DATE:20260306
DTEND;VALUE=DATE:20260309
DTSTAMP:20260420T223421
CREATED:20260129T183517Z
LAST-MODIFIED:20260129T183517Z
UID:253931-1772755200-1773014399@keystonecentre.com
SUMMARY:Brandon Home Show 2026
DESCRIPTION:Date: \nMarch 6th – 8th \nLocation: \nKeystone Centre
URL:https://keystonecentre.com/event/brandon-home-show-2026/
LOCATION:Keystone Centre\, #1 1175 18th Street \,\, Brandon\, Manitoba\, R7A 7C5\, Canada
CATEGORIES:Other
ATTACH;FMTTYPE=image/jpeg:https://keystonecentre.com/wp-content/uploads/2024/09/Default-picture.jpg
END:VEVENT
BEGIN:VEVENT
DTSTART;VALUE=DATE:20260306
DTEND;VALUE=DATE:20260309
DTSTAMP:20260420T223421
CREATED:20251021T165908Z
LAST-MODIFIED:20260302T145643Z
UID:253470-1772755200-1773014399@keystonecentre.com
SUMMARY:Hope for Spring BLHPSI
DESCRIPTION:Date: \nMarch 6th 8th \nLocation: \nIndoor Show Ring \nEntrance: \nBarn 1\, Barn 2 & Barn 4 – Walk-through doors
URL:https://keystonecentre.com/event/hope-for-spring-blhpsi/
LOCATION:Indoor Show Ring\, Keystone Centre\, Brandon\, MB\, Canada
CATEGORIES:Agriculture
ATTACH;FMTTYPE=image/jpeg:https://keystonecentre.com/wp-content/uploads/2024/09/Default-picture.jpg
END:VEVENT
BEGIN:VEVENT
DTSTART;TZID=America/Winnipeg:20260304T190000
DTEND;TZID=America/Winnipeg:20260304T190000
DTSTAMP:20260420T223421
CREATED:20250813T204942Z
LAST-MODIFIED:20250813T204942Z
UID:253073-1772650800-1772650800@keystonecentre.com
SUMMARY:Medicine Hat Tigers at Brandon Wheat Kings
DESCRIPTION:Date: \nMarch 4th \nTime: \n7:00 PM \nLocation: \nAssiniboine Credit Union Place: \nEntrance: \nEntrance A\, Canad Inns Upper Link
URL:https://keystonecentre.com/event/medicine-hat-tigers-at-brandon-wheat-kings-4/
LOCATION:Assiniboine Credit Union Place\, Keystone Centre\, Brandon\, MB\, Canada
CATEGORIES:Wheat Kings
ATTACH;FMTTYPE=image/jpeg:https://keystonecentre.com/wp-content/uploads/2025/08/8.jpg
END:VEVENT
BEGIN:VEVENT
DTSTART;VALUE=DATE:20260304
DTEND;VALUE=DATE:20260305
DTSTAMP:20260420T223421
CREATED:20250925T140121Z
LAST-MODIFIED:20250925T154236Z
UID:253258-1772582400-1772668799@keystonecentre.com
SUMMARY:VOLT Hockey
DESCRIPTION:Date: \nMarch 4th \nLocation: \nBrandon Curling Club
URL:https://keystonecentre.com/event/volt-hockey-18/
LOCATION:Brandon Curling Club\, Keystone Centre\, Brandon\, Manitoba\, Canada
CATEGORIES:Other
ATTACH;FMTTYPE=image/jpeg:https://keystonecentre.com/wp-content/uploads/2024/09/Default-picture.jpg
END:VEVENT
BEGIN:VEVENT
DTSTART;VALUE=DATE:20260303
DTEND;VALUE=DATE:20260304
DTSTAMP:20260420T223421
CREATED:20260129T184924Z
LAST-MODIFIED:20260129T224042Z
UID:253938-1772496000-1772582399@keystonecentre.com
SUMMARY:Brandon Youth Floorball
DESCRIPTION:Date: \nMarch 3rd \nLocation: \nCity Square
URL:https://keystonecentre.com/event/brandon-youth-floorball-11/
LOCATION:City Square
CATEGORIES:Other
ATTACH;FMTTYPE=image/jpeg:https://keystonecentre.com/wp-content/uploads/2024/09/Default-picture.jpg
END:VEVENT
BEGIN:VEVENT
DTSTART;VALUE=DATE:20260302
DTEND;VALUE=DATE:20260303
DTSTAMP:20260420T223421
CREATED:20250925T162221Z
LAST-MODIFIED:20250925T162221Z
UID:253329-1772409600-1772495999@keystonecentre.com
SUMMARY:VOLT Hockey
DESCRIPTION:Date: \nMarch 2nd \nLocation: \nCity Square
URL:https://keystonecentre.com/event/volt-hockey-43/
LOCATION:City Square
CATEGORIES:Other
ATTACH;FMTTYPE=image/jpeg:https://keystonecentre.com/wp-content/uploads/2024/09/Default-picture.jpg
END:VEVENT
BEGIN:VEVENT
DTSTART;TZID=America/Winnipeg:20260227T190000
DTEND;TZID=America/Winnipeg:20260227T190000
DTSTAMP:20260420T223421
CREATED:20250813T204643Z
LAST-MODIFIED:20250813T204643Z
UID:253071-1772218800-1772218800@keystonecentre.com
SUMMARY:Regina Pats at Brandon Wheat Kings
DESCRIPTION:Date:  \nFebruary 27th \nTime:  \n7:00 PM \nLocation: \nAssiniboine Credit Union Place \nEntrance: \nEntrance A\, Canad Inns Upper Link
URL:https://keystonecentre.com/event/regina-pats-at-brandon-wheat-kings-7/
LOCATION:Assiniboine Credit Union Place\, Keystone Centre\, Brandon\, MB\, Canada
CATEGORIES:Wheat Kings
ATTACH;FMTTYPE=image/jpeg:https://keystonecentre.com/wp-content/uploads/2025/08/7.jpg
END:VEVENT
BEGIN:VEVENT
DTSTART;VALUE=DATE:20260227
DTEND;VALUE=DATE:20260302
DTSTAMP:20260420T223421
CREATED:20251021T170235Z
LAST-MODIFIED:20260223T190409Z
UID:253472-1772150400-1772409599@keystonecentre.com
SUMMARY:March Winterfest
DESCRIPTION:Date: \nFebruary  27th – March 1st \nLocation: \nIndoor Show Ring \nEntrance: \nEntrance D
URL:https://keystonecentre.com/event/march-winterfest/
LOCATION:Indoor Show Ring\, Keystone Centre\, Brandon\, MB\, Canada
CATEGORIES:Agriculture
ATTACH;FMTTYPE=image/jpeg:https://keystonecentre.com/wp-content/uploads/2024/09/Default-picture.jpg
END:VEVENT
END:VCALENDAR