BEGIN:VCALENDAR
VERSION:2.0
PRODID:-//Keystone Centre - ECPv6.15.16//NONSGML v1.0//EN
CALSCALE:GREGORIAN
METHOD:PUBLISH
X-ORIGINAL-URL:https://keystonecentre.com
X-WR-CALDESC:Events for Keystone Centre
REFRESH-INTERVAL;VALUE=DURATION:PT1H
X-Robots-Tag:noindex
X-PUBLISHED-TTL:PT1H
BEGIN:VTIMEZONE
TZID:America/Winnipeg
BEGIN:DAYLIGHT
TZOFFSETFROM:-0600
TZOFFSETTO:-0500
TZNAME:CDT
DTSTART:20250309T080000
END:DAYLIGHT
BEGIN:STANDARD
TZOFFSETFROM:-0500
TZOFFSETTO:-0600
TZNAME:CST
DTSTART:20251102T070000
END:STANDARD
BEGIN:DAYLIGHT
TZOFFSETFROM:-0600
TZOFFSETTO:-0500
TZNAME:CDT
DTSTART:20260308T080000
END:DAYLIGHT
BEGIN:STANDARD
TZOFFSETFROM:-0500
TZOFFSETTO:-0600
TZNAME:CST
DTSTART:20261101T070000
END:STANDARD
BEGIN:DAYLIGHT
TZOFFSETFROM:-0600
TZOFFSETTO:-0500
TZNAME:CDT
DTSTART:20270314T080000
END:DAYLIGHT
BEGIN:STANDARD
TZOFFSETFROM:-0500
TZOFFSETTO:-0600
TZNAME:CST
DTSTART:20271107T070000
END:STANDARD
END:VTIMEZONE
BEGIN:VEVENT
DTSTART;VALUE=DATE:20260729
DTEND;VALUE=DATE:20260730
DTSTAMP:20260421T001026
CREATED:20251125T192425Z
LAST-MODIFIED:20251125T192425Z
UID:253746-1785283200-1785369599@keystonecentre.com
SUMMARY:Westman Challenge
DESCRIPTION:Date: \nJuly 29th \nLocation: \nIndoor Show Ring
URL:https://keystonecentre.com/event/westman-challenge-14/
LOCATION:Indoor Show Ring\, Keystone Centre\, Brandon\, MB\, Canada
CATEGORIES:Agriculture
ATTACH;FMTTYPE=image/jpeg:https://keystonecentre.com/wp-content/uploads/2024/09/Default-picture.jpg
END:VEVENT
BEGIN:VEVENT
DTSTART;VALUE=DATE:20260806
DTEND;VALUE=DATE:20260816
DTSTAMP:20260421T001026
CREATED:20260108T200449Z
LAST-MODIFIED:20260108T200449Z
UID:253857-1785974400-1786838399@keystonecentre.com
SUMMARY:Canada’s National Arabian Championship 2026
DESCRIPTION:Date: \nAugust 6th – 15th \nAdmission: \nFREE for all ages! \nEntrance: \nEntrance A
URL:https://keystonecentre.com/event/canadas-national-arabian-championship-2026/
LOCATION:Keystone Centre\, #1 1175 18th Street \,\, Brandon\, Manitoba\, R7A 7C5\, Canada
CATEGORIES:Other
ATTACH;FMTTYPE=image/jpeg:https://keystonecentre.com/wp-content/uploads/2024/09/Default-picture.jpg
END:VEVENT
BEGIN:VEVENT
DTSTART;VALUE=DATE:20260820
DTEND;VALUE=DATE:20260823
DTSTAMP:20260421T001026
CREATED:20260309T144206Z
LAST-MODIFIED:20260309T144435Z
UID:254251-1787184000-1787443199@keystonecentre.com
SUMMARY:Western Canadian Classic Holstein
DESCRIPTION:Date: \nAugust 20th – 22nd \nLocation: \nIndoor Show Ring
URL:https://keystonecentre.com/event/western-canadian-classic-holstein/
LOCATION:Indoor Show Ring\, Keystone Centre\, Brandon\, MB\, Canada
CATEGORIES:Agriculture
ATTACH;FMTTYPE=image/jpeg:https://keystonecentre.com/wp-content/uploads/2024/09/Default-picture.jpg
END:VEVENT
BEGIN:VEVENT
DTSTART;VALUE=DATE:20260901
DTEND;VALUE=DATE:20260902
DTSTAMP:20260421T001026
CREATED:20251125T192450Z
LAST-MODIFIED:20251125T192450Z
UID:253748-1788220800-1788307199@keystonecentre.com
SUMMARY:Westman Challenge
DESCRIPTION:Date: \nSeptember 1st \nLocation: \nIndoor Show Ring
URL:https://keystonecentre.com/event/westman-challenge-15/
LOCATION:Indoor Show Ring\, Keystone Centre\, Brandon\, MB\, Canada
CATEGORIES:Agriculture
ATTACH;FMTTYPE=image/jpeg:https://keystonecentre.com/wp-content/uploads/2024/09/Default-picture.jpg
END:VEVENT
BEGIN:VEVENT
DTSTART;TZID=America/Winnipeg:20260903T140000
DTEND;TZID=America/Winnipeg:20260903T200000
DTSTAMP:20260421T001026
CREATED:20260108T203357Z
LAST-MODIFIED:20260108T203357Z
UID:253874-1788444000-1788465600@keystonecentre.com
SUMMARY:Canadian Blood Services - Blood Donor Clinic
DESCRIPTION:Date: \nSeptember 3rd \nTime: \n2:00 PM – 8:00 PM \nLocation: \nUCT Pavilion \nEntrance: \nEntrance B
URL:https://keystonecentre.com/event/canadian-blood-services-blood-donor-clinic-6/
LOCATION:UCT Pavilion\, Keystone Centre\, Brandon\, MB\, Canada
CATEGORIES:Other
ATTACH;FMTTYPE=image/jpeg:https://keystonecentre.com/wp-content/uploads/2024/09/Default-picture.jpg
END:VEVENT
BEGIN:VEVENT
DTSTART;VALUE=DATE:20260904
DTEND;VALUE=DATE:20260907
DTSTAMP:20260421T001026
CREATED:20260325T171419Z
LAST-MODIFIED:20260325T171419Z
UID:254401-1788480000-1788739199@keystonecentre.com
SUMMARY:Manitoba Quarter Horse Association - Ranch Horse
DESCRIPTION:Date: \nSeptember 4th – 6th \nLocation: \nAssinioine Credit Union Agricultural Centre \n 
URL:https://keystonecentre.com/event/manitoba-quarter-horse-association-ranch-horse/
LOCATION:Assiniboine Credit Union Agricultural Centre
CATEGORIES:Agriculture
ATTACH;FMTTYPE=image/jpeg:https://keystonecentre.com/wp-content/uploads/2024/09/Default-picture.jpg
END:VEVENT
BEGIN:VEVENT
DTSTART;VALUE=DATE:20260912
DTEND;VALUE=DATE:20260914
DTSTAMP:20260421T001026
CREATED:20260309T153456Z
LAST-MODIFIED:20260309T153456Z
UID:254274-1789171200-1789343999@keystonecentre.com
SUMMARY:Fall Festival Dressage Show – Westman Dressage 2026
DESCRIPTION:Date: \nSeptember 12th – 13th \nLocation: \nAssiniboine Credit Union Agricultural Centre
URL:https://keystonecentre.com/event/fall-festival-dressage-show-westman-dressage-2026/
LOCATION:Manitoba
CATEGORIES:Agriculture
ATTACH;FMTTYPE=image/jpeg:https://keystonecentre.com/wp-content/uploads/2024/09/Default-picture.jpg
END:VEVENT
BEGIN:VEVENT
DTSTART;VALUE=DATE:20260912
DTEND;VALUE=DATE:20260914
DTSTAMP:20260421T001026
CREATED:20260309T160712Z
LAST-MODIFIED:20260309T161602Z
UID:254288-1789171200-1789343999@keystonecentre.com
SUMMARY:Manitoba Team Penning Provincial Finals 2026
DESCRIPTION:Date: \nSeptember 12th – 13th \nLocation: \nAssiniboine Credit Union Agricultural Centre
URL:https://keystonecentre.com/event/manitoba-team-penning-provincial-finals-2026/
LOCATION:Assiniboine Credit Union Agricultural Centre
CATEGORIES:Agriculture
ATTACH;FMTTYPE=image/jpeg:https://keystonecentre.com/wp-content/uploads/2024/09/Default-picture.jpg
END:VEVENT
BEGIN:VEVENT
DTSTART;VALUE=DATE:20260915
DTEND;VALUE=DATE:20260916
DTSTAMP:20260421T001026
CREATED:20260309T160430Z
LAST-MODIFIED:20260309T160430Z
UID:254286-1789430400-1789516799@keystonecentre.com
SUMMARY:Health Checks Tradeshow 2026
DESCRIPTION:Date: \nSeptember 15th \nLocation: \nUpper Level \nEntrance: \nEntrance A
URL:https://keystonecentre.com/event/health-checks-tradeshow-2026/
LOCATION:Keystone Centre\, #1 1175 18th Street \,\, Brandon\, Manitoba\, R7A 7C5\, Canada
CATEGORIES:Other
ATTACH;FMTTYPE=image/jpeg:https://keystonecentre.com/wp-content/uploads/2024/09/Default-picture.jpg
END:VEVENT
BEGIN:VEVENT
DTSTART;TZID=America/Winnipeg:20260917T140000
DTEND;TZID=America/Winnipeg:20260917T200000
DTSTAMP:20260421T001026
CREATED:20260108T203411Z
LAST-MODIFIED:20260108T203649Z
UID:253876-1789653600-1789675200@keystonecentre.com
SUMMARY:Canadian Blood Services - Blood Donor Clinic
DESCRIPTION:Date: \nSeptember 17th \nTime: \n2:00 PM – 8:00 PM \nLocation: \nUCT Pavilion \nEntrance: \nEntrance B
URL:https://keystonecentre.com/event/canadian-blood-services-blood-donor-clinic-8/
LOCATION:UCT Pavilion\, Keystone Centre\, Brandon\, MB\, Canada
CATEGORIES:Other
ATTACH;FMTTYPE=image/jpeg:https://keystonecentre.com/wp-content/uploads/2024/09/Default-picture.jpg
END:VEVENT
BEGIN:VEVENT
DTSTART;VALUE=DATE:20260918
DTEND;VALUE=DATE:20260921
DTSTAMP:20260421T001026
CREATED:20260309T152929Z
LAST-MODIFIED:20260309T160901Z
UID:254272-1789689600-1789948799@keystonecentre.com
SUMMARY:Slide N Spin – Central Canada Reining 2026
DESCRIPTION:Date: \nSeptember 18th – 20th \nLocation: \nAssiniboine Credit Union Agricultural Centre
URL:https://keystonecentre.com/event/slide-n-spin-central-canada-reining-2026/
LOCATION:Assiniboine Credit Union Agricultural Centre
CATEGORIES:Agriculture
ATTACH;FMTTYPE=image/jpeg:https://keystonecentre.com/wp-content/uploads/2024/09/Default-picture.jpg
END:VEVENT
BEGIN:VEVENT
DTSTART;VALUE=DATE:20260918
DTEND;VALUE=DATE:20260920
DTSTAMP:20260421T001026
CREATED:20260325T171125Z
LAST-MODIFIED:20260325T171125Z
UID:254399-1789689600-1789862399@keystonecentre.com
SUMMARY:Jack Auction Group - Horse Sale
DESCRIPTION:Date: \nSeptember 18th -19th \nLocation: \nCanada Room
URL:https://keystonecentre.com/event/jack-auction-group-horse-sale-3/
LOCATION:Canada Room\, Keystone Centre\, Brandon\, Manitoba\, Canada
CATEGORIES:Agriculture
ATTACH;FMTTYPE=image/jpeg:https://keystonecentre.com/wp-content/uploads/2024/09/Default-picture.jpg
END:VEVENT
BEGIN:VEVENT
DTSTART;VALUE=DATE:20260918
DTEND;VALUE=DATE:20260921
DTSTAMP:20260421T001026
CREATED:20260406T174233Z
LAST-MODIFIED:20260406T174233Z
UID:254434-1789689600-1789948799@keystonecentre.com
SUMMARY:Select Shows Brandon 2026
DESCRIPTION:Date: \nSeptember 18th – 20th \nLocation: \nKeystone Grounds
URL:https://keystonecentre.com/event/select-shows-brandon-2026/
LOCATION:Keystone Centre\, #1 1175 18th Street \,\, Brandon\, Manitoba\, R7A 7C5\, Canada
CATEGORIES:Other
ATTACH;FMTTYPE=image/jpeg:https://keystonecentre.com/wp-content/uploads/2024/09/Default-picture.jpg
END:VEVENT
BEGIN:VEVENT
DTSTART;VALUE=DATE:20260919
DTEND;VALUE=DATE:20260920
DTSTAMP:20260421T001026
CREATED:20260309T143501Z
LAST-MODIFIED:20260325T200321Z
UID:254252-1789776000-1789862399@keystonecentre.com
SUMMARY:Apple & Pine Market
DESCRIPTION:Date: \nSeptember 19th \nLocation: \nClara Tent
URL:https://keystonecentre.com/event/apple-and-pine-market-2/
LOCATION:Clara Tent\, Keystone Centre\, Brandon\, Manitoba\, Canada
CATEGORIES:Other
ATTACH;FMTTYPE=image/jpeg:https://keystonecentre.com/wp-content/uploads/2024/09/Default-picture.jpg
END:VEVENT
BEGIN:VEVENT
DTSTART;VALUE=DATE:20260919
DTEND;VALUE=DATE:20260920
DTSTAMP:20260421T001026
CREATED:20260309T150710Z
LAST-MODIFIED:20260309T150710Z
UID:254260-1789776000-1789862399@keystonecentre.com
SUMMARY:United Way Garage Sale
DESCRIPTION:Date: \nSeptember 19th \nLocation: \nManitoba Room \nEntrance: \nEntrance A
URL:https://keystonecentre.com/event/united-way-garage-sale-3/
LOCATION:Manitoba Room\, Keystone Centre\, Brandon\, MB\, Canada
CATEGORIES:Other
ATTACH;FMTTYPE=image/jpeg:https://keystonecentre.com/wp-content/uploads/2024/09/Default-picture.jpg
END:VEVENT
BEGIN:VEVENT
DTSTART;VALUE=DATE:20260925
DTEND;VALUE=DATE:20260929
DTSTAMP:20260421T001026
CREATED:20260309T152625Z
LAST-MODIFIED:20260309T152625Z
UID:254268-1790294400-1790639999@keystonecentre.com
SUMMARY:NAERIC Barrels of Cash/Manitoba Rope Horse Futurity 2026
DESCRIPTION:Date: \nSeptember 25th – 27th \nLocation: \nAsssiniboine Credit Union Agricultural Centre
URL:https://keystonecentre.com/event/naeric-barrels-of-cash-manitoba-rope-horse-futurity-2026/
LOCATION:Assiniboine Credit Union Agricultural Centre
CATEGORIES:Agriculture
ATTACH;FMTTYPE=image/jpeg:https://keystonecentre.com/wp-content/uploads/2024/09/Default-picture.jpg
END:VEVENT
BEGIN:VEVENT
DTSTART;VALUE=DATE:20260929
DTEND;VALUE=DATE:20260930
DTSTAMP:20260421T001026
CREATED:20251125T192531Z
LAST-MODIFIED:20251125T192543Z
UID:253751-1790640000-1790726399@keystonecentre.com
SUMMARY:Westman Challenge
DESCRIPTION:Date: \nSeptember 29th \nLocation: \nIndoor Show Ring
URL:https://keystonecentre.com/event/westman-challenge-16/
LOCATION:Indoor Show Ring\, Keystone Centre\, Brandon\, MB\, Canada
CATEGORIES:Agriculture
ATTACH;FMTTYPE=image/jpeg:https://keystonecentre.com/wp-content/uploads/2024/09/Default-picture.jpg
END:VEVENT
BEGIN:VEVENT
DTSTART;VALUE=DATE:20261001
DTEND;VALUE=DATE:20261005
DTSTAMP:20260421T001026
CREATED:20260309T151716Z
LAST-MODIFIED:20260309T152237Z
UID:254266-1790812800-1791158399@keystonecentre.com
SUMMARY:Manitoba Barrel Racing Association Finals 2026
DESCRIPTION:Date: \nOctober 1st – 4th \nLocation: \nAssiniboine Credit Union Agricultural Centre
URL:https://keystonecentre.com/event/manitoba-barrel-racing-association-finals-2026/
LOCATION:Assiniboine Credit Union Agricultural Centre
CATEGORIES:Agriculture
ATTACH;FMTTYPE=image/jpeg:https://keystonecentre.com/wp-content/uploads/2024/09/Default-picture.jpg
END:VEVENT
BEGIN:VEVENT
DTSTART;VALUE=DATE:20261002
DTEND;VALUE=DATE:20261004
DTSTAMP:20260421T001026
CREATED:20260325T170841Z
LAST-MODIFIED:20260325T200658Z
UID:254394-1790899200-1791071999@keystonecentre.com
SUMMARY:Navratri Festival
DESCRIPTION:Date: \nOctober 2nd – 3rd \nOctober 10th – 11th \nLocation: \nManitoba Room \nEntrance: \nEntrance A
URL:https://keystonecentre.com/event/navratri-festival-2026/
LOCATION:Manitoba Room\, Keystone Centre\, Brandon\, MB\, Canada
CATEGORIES:Other
ATTACH;FMTTYPE=image/jpeg:https://keystonecentre.com/wp-content/uploads/2024/09/Default-picture.jpg
END:VEVENT
BEGIN:VEVENT
DTSTART;VALUE=DATE:20261009
DTEND;VALUE=DATE:20261013
DTSTAMP:20260421T001026
CREATED:20260325T170140Z
LAST-MODIFIED:20260325T170400Z
UID:254392-1791504000-1791849599@keystonecentre.com
SUMMARY:Manitoba Quarter Horse Association (MQHA) - Thanksgiving Classic 2026
DESCRIPTION:Date: \nOctober 9th – 12th \nLocation: \nAssinioine Credit Union Agricultural Centre
URL:https://keystonecentre.com/event/manitoba-quarter-horse-association-mqha-thanksgiving-classic-2026/
LOCATION:Assiniboine Credit Union Agricultural Centre
CATEGORIES:Agriculture
ATTACH;FMTTYPE=image/jpeg:https://keystonecentre.com/wp-content/uploads/2024/09/Default-picture.jpg
END:VEVENT
BEGIN:VEVENT
DTSTART;VALUE=DATE:20261010
DTEND;VALUE=DATE:20261012
DTSTAMP:20260421T001026
CREATED:20260325T170904Z
LAST-MODIFIED:20260325T200721Z
UID:254397-1791590400-1791763199@keystonecentre.com
SUMMARY:Navratri Festival
DESCRIPTION:Date: \nOctober 10th – 11th \nLocation: \nManitoba Room \nEntrance: \nEntrance A
URL:https://keystonecentre.com/event/navratri-festival-2026-2/
LOCATION:Manitoba Room\, Keystone Centre\, Brandon\, MB\, Canada
CATEGORIES:Other
ATTACH;FMTTYPE=image/jpeg:https://keystonecentre.com/wp-content/uploads/2024/09/Default-picture.jpg
END:VEVENT
BEGIN:VEVENT
DTSTART;VALUE=DATE:20261015
DTEND;VALUE=DATE:20261018
DTSTAMP:20260421T001026
CREATED:20260325T165834Z
LAST-MODIFIED:20260325T175826Z
UID:254390-1792022400-1792281599@keystonecentre.com
SUMMARY:Manitoba Rodeo Cowboys Association Rodeo Finals (MRCA) 2026
DESCRIPTION:Date: \nOctober 15th – 17th \nLocation: \nAssinioine Credit Union Agricultural Centre
URL:https://keystonecentre.com/event/manitoba-rodeo-cowboys-association-mrca-rodeo-finals-2026/
LOCATION:Assiniboine Credit Union Agricultural Centre
CATEGORIES:Agriculture
ATTACH;FMTTYPE=image/jpeg:https://keystonecentre.com/wp-content/uploads/2024/09/Default-picture.jpg
END:VEVENT
BEGIN:VEVENT
DTSTART;VALUE=DATE:20261016
DTEND;VALUE=DATE:20261019
DTSTAMP:20260421T001026
CREATED:20260325T150131Z
LAST-MODIFIED:20260325T150131Z
UID:254375-1792108800-1792367999@keystonecentre.com
SUMMARY:Manitoba Horse School Rodeo Association (MHSRA) 2026
DESCRIPTION:Date: \nOctober 16th – 18th \nLocation: \nAssinioine Credit Union Agricultural Centre
URL:https://keystonecentre.com/event/manitoba-horse-school-rodeo-association-mhsra-2026/
LOCATION:Assiniboine Credit Union Agricultural Centre
CATEGORIES:Agriculture
ATTACH;FMTTYPE=image/jpeg:https://keystonecentre.com/wp-content/uploads/2024/09/Default-picture.jpg
END:VEVENT
BEGIN:VEVENT
DTSTART;VALUE=DATE:20261016
DTEND;VALUE=DATE:20261019
DTSTAMP:20260421T001026
CREATED:20260325T151813Z
LAST-MODIFIED:20260325T151813Z
UID:254386-1792108800-1792367999@keystonecentre.com
SUMMARY:Jack Auction Group - Horse Sale
DESCRIPTION:Date: \nOctober 16th – 18th \nLocation: \nAssinioine Credit Union Agricultural Centre
URL:https://keystonecentre.com/event/jack-auction-group-horse-sale-2/
LOCATION:Assiniboine Credit Union Agricultural Centre
CATEGORIES:Agriculture
ATTACH;FMTTYPE=image/jpeg:https://keystonecentre.com/wp-content/uploads/2024/09/Default-picture.jpg
END:VEVENT
BEGIN:VEVENT
DTSTART;VALUE=DATE:20261016
DTEND;VALUE=DATE:20261019
DTSTAMP:20260421T001026
CREATED:20260325T152232Z
LAST-MODIFIED:20260325T165410Z
UID:254388-1792108800-1792367999@keystonecentre.com
SUMMARY:Manitoba Team Roping Association (MTRA) 2026
DESCRIPTION:Date: \nOctober 16th – 18th \nLocation: \nAssiniboine Creduit Union Agricultural Centre
URL:https://keystonecentre.com/event/manitoba-team-roping-association-mtra-2026/
LOCATION:Assiniboine Credit Union Agricultural Centre
CATEGORIES:Agriculture
ATTACH;FMTTYPE=image/jpeg:https://keystonecentre.com/wp-content/uploads/2024/09/Default-picture.jpg
END:VEVENT
BEGIN:VEVENT
DTSTART;TZID=America/Winnipeg:20261017T100000
DTEND;TZID=America/Winnipeg:20261018T170000
DTSTAMP:20260421T001026
CREATED:20260325T143605Z
LAST-MODIFIED:20260325T150346Z
UID:254367-1792231200-1792342800@keystonecentre.com
SUMMARY:Brandon’s Big One Arts & Craft Sale – Fall Edition
DESCRIPTION:Date: \nOctober 17th – 18th \nOctober 24th – 25th \nTime: \n10:00 AM – 5:00 PM \nLocation: \nManitoba Room\, UCT Pavilion \nAdmission: \n$5 (12 & under free) \nEntrance: \nEntrance A & B
URL:https://keystonecentre.com/event/brandons-big-one-fall-edition/
LOCATION:Manitoba Room\, Keystone Centre\, Brandon\, MB\, Canada
CATEGORIES:Other
ATTACH;FMTTYPE=image/jpeg:https://keystonecentre.com/wp-content/uploads/2024/09/Default-picture.jpg
END:VEVENT
BEGIN:VEVENT
DTSTART;TZID=America/Winnipeg:20261024T100000
DTEND;TZID=America/Winnipeg:20261025T170000
DTSTAMP:20260421T001026
CREATED:20260325T143637Z
LAST-MODIFIED:20260325T145959Z
UID:254369-1792836000-1792947600@keystonecentre.com
SUMMARY:Brandon’s Big One Arts & Craft Sale – Fall Edition
DESCRIPTION:Date: \nOctober 24th – 25th \nTime: \n10:00 AM – 5:00 PM \nAdmission: \n$5 (12 & under free) \nLocation: \nManitoba Room\, UCT Pavilion
URL:https://keystonecentre.com/event/brandons-big-one-fall-edition-2/
LOCATION:Manitoba Room\, Keystone Centre\, Brandon\, MB\, Canada
CATEGORIES:Other
ATTACH;FMTTYPE=image/jpeg:https://keystonecentre.com/wp-content/uploads/2024/09/Default-picture.jpg
END:VEVENT
BEGIN:VEVENT
DTSTART;VALUE=DATE:20261028
DTEND;VALUE=DATE:20261101
DTSTAMP:20260421T001026
CREATED:20260325T135505Z
LAST-MODIFIED:20260325T135822Z
UID:254361-1793145600-1793491199@keystonecentre.com
SUMMARY:Manitoba Ag Ex 2026
DESCRIPTION:Date: \nOctober 28th – 31st \nLocation: \nAssinioine Credit Union Agricultural Centre
URL:https://keystonecentre.com/event/manitoba-ag-ex-2026/
LOCATION:Assiniboine Credit Union Agricultural Centre
CATEGORIES:Agriculture
ATTACH;FMTTYPE=image/jpeg:https://keystonecentre.com/wp-content/uploads/2024/09/Default-picture.jpg
END:VEVENT
BEGIN:VEVENT
DTSTART;VALUE=DATE:20261030
DTEND;VALUE=DATE:20261031
DTSTAMP:20260421T001026
CREATED:20260325T135731Z
LAST-MODIFIED:20260325T140050Z
UID:254363-1793318400-1793404799@keystonecentre.com
SUMMARY:ACC Fall Graduation 2026
DESCRIPTION:Date: \nOctober 30th \nLocation: \nUCT Pavilion/Manitoba Room
URL:https://keystonecentre.com/event/acc-fall-graduation-2026/
LOCATION:Manitoba Room\, Keystone Centre\, Brandon\, MB\, Canada
CATEGORIES:Other
ATTACH;FMTTYPE=image/jpeg:https://keystonecentre.com/wp-content/uploads/2024/09/Default-picture.jpg
END:VEVENT
BEGIN:VEVENT
DTSTART;TZID=America/Winnipeg:20261105T140000
DTEND;TZID=America/Winnipeg:20261105T200000
DTSTAMP:20260421T001026
CREATED:20260108T203427Z
LAST-MODIFIED:20260108T203629Z
UID:253878-1793887200-1793908800@keystonecentre.com
SUMMARY:Canadian Blood Services - Blood Donor Clinic
DESCRIPTION:Date: \nNovember 5th \nTime: \n2:00 PM – 8:00 PM \nLocation: \nUCT Pavilion \nEntrance: \nEntrance B
URL:https://keystonecentre.com/event/canadian-blood-services-blood-donor-clinic-18/
LOCATION:UCT Pavilion\, Keystone Centre\, Brandon\, MB\, Canada
CATEGORIES:Other
ATTACH;FMTTYPE=image/jpeg:https://keystonecentre.com/wp-content/uploads/2024/09/Default-picture.jpg
END:VEVENT
END:VCALENDAR