BEGIN:VCALENDAR
VERSION:2.0
PRODID:-//Keystone Centre - ECPv6.15.16//NONSGML v1.0//EN
CALSCALE:GREGORIAN
METHOD:PUBLISH
X-WR-CALNAME:Keystone Centre
X-ORIGINAL-URL:https://keystonecentre.com
X-WR-CALDESC:Events for Keystone Centre
REFRESH-INTERVAL;VALUE=DURATION:PT1H
X-Robots-Tag:noindex
X-PUBLISHED-TTL:PT1H
BEGIN:VTIMEZONE
TZID:America/Winnipeg
BEGIN:DAYLIGHT
TZOFFSETFROM:-0600
TZOFFSETTO:-0500
TZNAME:CDT
DTSTART:20250309T080000
END:DAYLIGHT
BEGIN:STANDARD
TZOFFSETFROM:-0500
TZOFFSETTO:-0600
TZNAME:CST
DTSTART:20251102T070000
END:STANDARD
BEGIN:DAYLIGHT
TZOFFSETFROM:-0600
TZOFFSETTO:-0500
TZNAME:CDT
DTSTART:20260308T080000
END:DAYLIGHT
BEGIN:STANDARD
TZOFFSETFROM:-0500
TZOFFSETTO:-0600
TZNAME:CST
DTSTART:20261101T070000
END:STANDARD
BEGIN:DAYLIGHT
TZOFFSETFROM:-0600
TZOFFSETTO:-0500
TZNAME:CDT
DTSTART:20270314T080000
END:DAYLIGHT
BEGIN:STANDARD
TZOFFSETFROM:-0500
TZOFFSETTO:-0600
TZNAME:CST
DTSTART:20271107T070000
END:STANDARD
END:VTIMEZONE
BEGIN:VEVENT
DTSTART;VALUE=DATE:20260501
DTEND;VALUE=DATE:20260504
DTSTAMP:20260420T145923
CREATED:20251125T190815Z
LAST-MODIFIED:20251125T190815Z
UID:253728-1777593600-1777852799@keystonecentre.com
SUMMARY:Westman Dressage Clinic
DESCRIPTION:Date: \nMay 1st – 3rd \nLocation: \nIndoor Show Ring
URL:https://keystonecentre.com/event/westman-dressage-clinic/
LOCATION:Indoor Show Ring\, Keystone Centre\, Brandon\, MB\, Canada
CATEGORIES:Agriculture
ATTACH;FMTTYPE=image/jpeg:https://keystonecentre.com/wp-content/uploads/2024/09/Default-picture.jpg
END:VEVENT
BEGIN:VEVENT
DTSTART;VALUE=DATE:20260502
DTEND;VALUE=DATE:20260503
DTSTAMP:20260420T145923
CREATED:20251125T190624Z
LAST-MODIFIED:20251125T190624Z
UID:253726-1777680000-1777766399@keystonecentre.com
SUMMARY:Spring Speaker - Sunrise Credit Union
DESCRIPTION:Date: \nMay 2nd \nLocation: \nMNP Hall \nEntrance: \nEntrance A
URL:https://keystonecentre.com/event/spring-speaker-sunrise-credit-union/
LOCATION:MNP Hall\, Keystone Centre\, Brandon\, MB\, Canada
CATEGORIES:Other
ATTACH;FMTTYPE=image/jpeg:https://keystonecentre.com/wp-content/uploads/2024/09/Default-picture.jpg
END:VEVENT
BEGIN:VEVENT
DTSTART;TZID=America/Winnipeg:20260502T190000
DTEND;TZID=America/Winnipeg:20260502T213000
DTSTAMP:20260420T145923
CREATED:20251117T143038Z
LAST-MODIFIED:20260409T140041Z
UID:253692-1777748400-1777757400@keystonecentre.com
SUMMARY:PBR Canada Cup Series Mazergroup Chute Out
DESCRIPTION:For the fifth consecutive year\, PBR (Professional Bull Riders) Canada’s elite Cup Series will buck into Brandon\, Manitoba\, holding the PBR Mazergroup Chute Out at Assiniboine Credit Union Place on May 1-2\, 2026. \nThe PBR Mazergroup Chute Out will have added significance as the lone PBR Canada Cup Series event in Manitoba during the 2026 season. \nBUY MAY 1 TICKETS\nBUY MAY 2 TICKETS\nBUY WEEKEND PASS
URL:https://keystonecentre.com/event/pbr-canada-cup-series-day-two-2/
LOCATION:Assiniboine Credit Union Place\, Keystone Centre\, Brandon\, MB\, Canada
CATEGORIES:Special Events II
ATTACH;FMTTYPE=image/jpeg:https://keystonecentre.com/wp-content/uploads/2025/11/Social_Brandon_1080x1920.jpg
END:VEVENT
END:VCALENDAR