BEGIN:VCALENDAR
VERSION:2.0
PRODID:-//Keystone Centre - ECPv6.15.16//NONSGML v1.0//EN
CALSCALE:GREGORIAN
METHOD:PUBLISH
X-ORIGINAL-URL:https://keystonecentre.com
X-WR-CALDESC:Events for Keystone Centre
REFRESH-INTERVAL;VALUE=DURATION:PT1H
X-Robots-Tag:noindex
X-PUBLISHED-TTL:PT1H
BEGIN:VTIMEZONE
TZID:America/Winnipeg
BEGIN:DAYLIGHT
TZOFFSETFROM:-0600
TZOFFSETTO:-0500
TZNAME:CDT
DTSTART:20250309T080000
END:DAYLIGHT
BEGIN:STANDARD
TZOFFSETFROM:-0500
TZOFFSETTO:-0600
TZNAME:CST
DTSTART:20251102T070000
END:STANDARD
BEGIN:DAYLIGHT
TZOFFSETFROM:-0600
TZOFFSETTO:-0500
TZNAME:CDT
DTSTART:20260308T080000
END:DAYLIGHT
BEGIN:STANDARD
TZOFFSETFROM:-0500
TZOFFSETTO:-0600
TZNAME:CST
DTSTART:20261101T070000
END:STANDARD
BEGIN:DAYLIGHT
TZOFFSETFROM:-0600
TZOFFSETTO:-0500
TZNAME:CDT
DTSTART:20270314T080000
END:DAYLIGHT
BEGIN:STANDARD
TZOFFSETFROM:-0500
TZOFFSETTO:-0600
TZNAME:CST
DTSTART:20271107T070000
END:STANDARD
END:VTIMEZONE
BEGIN:VEVENT
DTSTART;VALUE=DATE:20260424
DTEND;VALUE=DATE:20260427
DTSTAMP:20260420T150133
CREATED:20251028T162434Z
LAST-MODIFIED:20260420T145347Z
UID:253543-1776988800-1777247999@keystonecentre.com
SUMMARY:BLHPSI Spring Clinic
DESCRIPTION:Date: \nApril 24th – 26th \nLocation: \nIndoor Show Ring \nEntrance: \nEntrance D
URL:https://keystonecentre.com/event/blhpsi-spring-clinic/
LOCATION:Indoor Show Ring\, Keystone Centre\, Brandon\, MB\, Canada
CATEGORIES:Agriculture
ATTACH;FMTTYPE=image/jpeg:https://keystonecentre.com/wp-content/uploads/2024/09/Default-picture.jpg
END:VEVENT
BEGIN:VEVENT
DTSTART;VALUE=DATE:20260425
DTEND;VALUE=DATE:20260426
DTSTAMP:20260420T150133
CREATED:20251028T164344Z
LAST-MODIFIED:20260415T132843Z
UID:253555-1777075200-1777161599@keystonecentre.com
SUMMARY:Kiwanis Club of Brandon Bike Auction 2026
DESCRIPTION:Date: \nApril 25th \nTime: \nViewing at 9:00 AM \nAuction at 10:00 AM \nLocation: \nManitoba Room
URL:https://keystonecentre.com/event/kiwanis-club-of-brandon-bike-auction-2026/
LOCATION:Manitoba Room\, Keystone Centre\, Brandon\, MB\, Canada
CATEGORIES:Other
ATTACH;FMTTYPE=image/jpeg:https://keystonecentre.com/wp-content/uploads/2024/09/Default-picture.jpg
END:VEVENT
BEGIN:VEVENT
DTSTART;VALUE=DATE:20260425
DTEND;VALUE=DATE:20260426
DTSTAMP:20260420T150133
CREATED:20260129T185824Z
LAST-MODIFIED:20260129T185824Z
UID:253945-1777075200-1777161599@keystonecentre.com
SUMMARY:CFB Shilo Spring Ball 2026
DESCRIPTION:Date: \nApril 25th \nLocation: \nMNP Hall\, Assembly Hall\, WCG Viewing Lounge\, Pioneer Lounge\, Amphitheatre \nEntrance: \nEntrance A
URL:https://keystonecentre.com/event/cfb-shilo-spring-ball-2026/
LOCATION:Keystone Centre\, #1 1175 18th Street \,\, Brandon\, Manitoba\, R7A 7C5\, Canada
CATEGORIES:Other
ATTACH;FMTTYPE=image/jpeg:https://keystonecentre.com/wp-content/uploads/2024/09/Default-picture.jpg
END:VEVENT
END:VCALENDAR