BEGIN:VCALENDAR
VERSION:2.0
PRODID:-//Keystone Centre - ECPv6.15.16//NONSGML v1.0//EN
CALSCALE:GREGORIAN
METHOD:PUBLISH
X-ORIGINAL-URL:https://keystonecentre.com
X-WR-CALDESC:Events for Keystone Centre
REFRESH-INTERVAL;VALUE=DURATION:PT1H
X-Robots-Tag:noindex
X-PUBLISHED-TTL:PT1H
BEGIN:VTIMEZONE
TZID:America/Winnipeg
BEGIN:DAYLIGHT
TZOFFSETFROM:-0600
TZOFFSETTO:-0500
TZNAME:CDT
DTSTART:20250309T080000
END:DAYLIGHT
BEGIN:STANDARD
TZOFFSETFROM:-0500
TZOFFSETTO:-0600
TZNAME:CST
DTSTART:20251102T070000
END:STANDARD
BEGIN:DAYLIGHT
TZOFFSETFROM:-0600
TZOFFSETTO:-0500
TZNAME:CDT
DTSTART:20260308T080000
END:DAYLIGHT
BEGIN:STANDARD
TZOFFSETFROM:-0500
TZOFFSETTO:-0600
TZNAME:CST
DTSTART:20261101T070000
END:STANDARD
BEGIN:DAYLIGHT
TZOFFSETFROM:-0600
TZOFFSETTO:-0500
TZNAME:CDT
DTSTART:20270314T080000
END:DAYLIGHT
BEGIN:STANDARD
TZOFFSETFROM:-0500
TZOFFSETTO:-0600
TZNAME:CST
DTSTART:20271107T070000
END:STANDARD
END:VTIMEZONE
BEGIN:VEVENT
DTSTART;VALUE=DATE:20260320
DTEND;VALUE=DATE:20260323
DTSTAMP:20260420T172316
CREATED:20260129T184102Z
LAST-MODIFIED:20260129T224830Z
UID:253934-1773964800-1774223999@keystonecentre.com
SUMMARY:Sofa King's Tournament 2026
DESCRIPTION:Date: \nMarch 20th – 22nd \nLocation: \nAssiniboine Credit Union Place/Enns Brothers Arena \nEntrance: \nEntrance A\, B
URL:https://keystonecentre.com/event/sofa-kings-tournament-2026/
LOCATION:Assiniboine Credit Union Place\, Keystone Centre\, Brandon\, MB\, Canada
CATEGORIES:Other
ATTACH;FMTTYPE=image/jpeg:https://keystonecentre.com/wp-content/uploads/2024/09/Default-picture.jpg
END:VEVENT
BEGIN:VEVENT
DTSTART;TZID=America/Winnipeg:20260321T100000
DTEND;TZID=America/Winnipeg:20260322T200000
DTSTAMP:20260420T172316
CREATED:20260108T202554Z
LAST-MODIFIED:20260304T020506Z
UID:253863-1774087200-1774209600@keystonecentre.com
SUMMARY:Westman Gaming Expo 2026
DESCRIPTION:Date: \nMarch 21st – March 22nd \nTime:  \n10:00 AM – 8:00 PM each day \nLocation: \nManitoba Room & UCT Pavilion
URL:https://keystonecentre.com/event/westman-gaming-expo-2/
LOCATION:Manitoba Room\, Keystone Centre\, Brandon\, MB\, Canada
CATEGORIES:Other
ATTACH;FMTTYPE=image/jpeg:https://keystonecentre.com/wp-content/uploads/2024/09/Default-picture.jpg
END:VEVENT
BEGIN:VEVENT
DTSTART;TZID=America/Winnipeg:20260321T180000
DTEND;TZID=America/Winnipeg:20260321T180000
DTSTAMP:20260420T172316
CREATED:20250813T205540Z
LAST-MODIFIED:20250813T205540Z
UID:253077-1774116000-1774116000@keystonecentre.com
SUMMARY:Regina Pats at Brandon Wheat Kings
DESCRIPTION:Date: \nMarch 21st \nTime: \n6:00 PM \nLocation: \nAssiniboine Credit Union Place \nEntrance: \nEntrance A\, Canad Inns Upper Link
URL:https://keystonecentre.com/event/regina-pats-at-brandon-wheat-kings-8/
LOCATION:Assiniboine Credit Union Place\, Keystone Centre\, Brandon\, MB\, Canada
CATEGORIES:Wheat Kings
ATTACH;FMTTYPE=image/jpeg:https://keystonecentre.com/wp-content/uploads/2025/08/10.jpg
END:VEVENT
END:VCALENDAR