BEGIN:VCALENDAR
VERSION:2.0
PRODID:-//Keystone Centre - ECPv6.15.16//NONSGML v1.0//EN
CALSCALE:GREGORIAN
METHOD:PUBLISH
X-WR-CALNAME:Keystone Centre
X-ORIGINAL-URL:https://keystonecentre.com
X-WR-CALDESC:Events for Keystone Centre
REFRESH-INTERVAL;VALUE=DURATION:PT1H
X-Robots-Tag:noindex
X-PUBLISHED-TTL:PT1H
BEGIN:VTIMEZONE
TZID:America/Winnipeg
BEGIN:DAYLIGHT
TZOFFSETFROM:-0600
TZOFFSETTO:-0500
TZNAME:CDT
DTSTART:20250309T080000
END:DAYLIGHT
BEGIN:STANDARD
TZOFFSETFROM:-0500
TZOFFSETTO:-0600
TZNAME:CST
DTSTART:20251102T070000
END:STANDARD
BEGIN:DAYLIGHT
TZOFFSETFROM:-0600
TZOFFSETTO:-0500
TZNAME:CDT
DTSTART:20260308T080000
END:DAYLIGHT
BEGIN:STANDARD
TZOFFSETFROM:-0500
TZOFFSETTO:-0600
TZNAME:CST
DTSTART:20261101T070000
END:STANDARD
BEGIN:DAYLIGHT
TZOFFSETFROM:-0600
TZOFFSETTO:-0500
TZNAME:CDT
DTSTART:20270314T080000
END:DAYLIGHT
BEGIN:STANDARD
TZOFFSETFROM:-0500
TZOFFSETTO:-0600
TZNAME:CST
DTSTART:20271107T070000
END:STANDARD
END:VTIMEZONE
BEGIN:VEVENT
DTSTART;VALUE=DATE:20260223
DTEND;VALUE=DATE:20260226
DTSTAMP:20260420T205022
CREATED:20251028T163033Z
LAST-MODIFIED:20251028T163033Z
UID:253547-1771804800-1772063999@keystonecentre.com
SUMMARY:MWWA 2026 Conference and Tradeshow
DESCRIPTION:Date: \nConference: \nFebruary 23rd – 25th \nTradeshow: \nFebruary 23rd – 24th \nLocation: \nKeystone Centre
URL:https://keystonecentre.com/event/mwwa-2026-conference-and-tradeshow/
LOCATION:Keystone Centre\, #1 1175 18th Street \,\, Brandon\, Manitoba\, R7A 7C5\, Canada
CATEGORIES:Other
ATTACH;FMTTYPE=image/jpeg:https://keystonecentre.com/wp-content/uploads/2024/09/Default-picture.jpg
END:VEVENT
BEGIN:VEVENT
DTSTART;VALUE=DATE:20260224
DTEND;VALUE=DATE:20260225
DTSTAMP:20260420T205022
CREATED:20260129T184855Z
LAST-MODIFIED:20260129T224050Z
UID:253936-1771891200-1771977599@keystonecentre.com
SUMMARY:Brandon Youth Floorball
DESCRIPTION:Date: \nFebruary 24th \nLocation: \nCity Square
URL:https://keystonecentre.com/event/brandon-youth-floorball-10/
LOCATION:City Square
CATEGORIES:Other
ATTACH;FMTTYPE=image/jpeg:https://keystonecentre.com/wp-content/uploads/2024/09/Default-picture.jpg
END:VEVENT
BEGIN:VEVENT
DTSTART;TZID=America/Winnipeg:20260224T190000
DTEND;TZID=America/Winnipeg:20260224T190000
DTSTAMP:20260420T205022
CREATED:20250813T204414Z
LAST-MODIFIED:20250813T204414Z
UID:253069-1771959600-1771959600@keystonecentre.com
SUMMARY:Prince George Cougars at Brandon Wheat Kings
DESCRIPTION:Date: \nFebruary 24th \nTime: \n7:00 PM \nLocation: \nAssiniboine Credit Union Place \nEntrance: \nEntrance A\, Canad Inns Upper Link
URL:https://keystonecentre.com/event/prince-george-cougars-at-brandon-wheat-kings/
LOCATION:Assiniboine Credit Union Place\, Keystone Centre\, Brandon\, MB\, Canada
CATEGORIES:Wheat Kings
ATTACH;FMTTYPE=image/jpeg:https://keystonecentre.com/wp-content/uploads/2025/08/6.jpg
END:VEVENT
END:VCALENDAR