BEGIN:VCALENDAR
VERSION:2.0
PRODID:-//Keystone Centre - ECPv6.15.16//NONSGML v1.0//EN
CALSCALE:GREGORIAN
METHOD:PUBLISH
X-ORIGINAL-URL:https://keystonecentre.com
X-WR-CALDESC:Events for Keystone Centre
REFRESH-INTERVAL;VALUE=DURATION:PT1H
X-Robots-Tag:noindex
X-PUBLISHED-TTL:PT1H
BEGIN:VTIMEZONE
TZID:America/Winnipeg
BEGIN:DAYLIGHT
TZOFFSETFROM:-0600
TZOFFSETTO:-0500
TZNAME:CDT
DTSTART:20250309T080000
END:DAYLIGHT
BEGIN:STANDARD
TZOFFSETFROM:-0500
TZOFFSETTO:-0600
TZNAME:CST
DTSTART:20251102T070000
END:STANDARD
BEGIN:DAYLIGHT
TZOFFSETFROM:-0600
TZOFFSETTO:-0500
TZNAME:CDT
DTSTART:20260308T080000
END:DAYLIGHT
BEGIN:STANDARD
TZOFFSETFROM:-0500
TZOFFSETTO:-0600
TZNAME:CST
DTSTART:20261101T070000
END:STANDARD
BEGIN:DAYLIGHT
TZOFFSETFROM:-0600
TZOFFSETTO:-0500
TZNAME:CDT
DTSTART:20270314T080000
END:DAYLIGHT
BEGIN:STANDARD
TZOFFSETFROM:-0500
TZOFFSETTO:-0600
TZNAME:CST
DTSTART:20271107T070000
END:STANDARD
END:VTIMEZONE
BEGIN:VEVENT
DTSTART;VALUE=DATE:20260219
DTEND;VALUE=DATE:20260222
DTSTAMP:20260420T205048
CREATED:20251021T170922Z
LAST-MODIFIED:20251021T170922Z
UID:253474-1771459200-1771718399@keystonecentre.com
SUMMARY:Manitoba Bison Association 2026
DESCRIPTION:Date: \nFebruary 19th – 21st \nLocation: \nCanada Room
URL:https://keystonecentre.com/event/manitoba-bison-association-2026/
LOCATION:Canada Room\, Keystone Centre\, Brandon\, Manitoba\, Canada
CATEGORIES:Agriculture
ATTACH;FMTTYPE=image/jpeg:https://keystonecentre.com/wp-content/uploads/2024/09/Default-picture.jpg
END:VEVENT
BEGIN:VEVENT
DTSTART;VALUE=DATE:20260220
DTEND;VALUE=DATE:20260223
DTSTAMP:20260420T205048
CREATED:20251021T171427Z
LAST-MODIFIED:20260217T150703Z
UID:253476-1771545600-1771804799@keystonecentre.com
SUMMARY:Toques & Boots BLHPSI
DESCRIPTION:Date: \nFebruary 20th – 22nd \nLocation: \nIndoor Show Ring \nEntrance: \nEntrance D
URL:https://keystonecentre.com/event/toques-boots-blhpsi/
LOCATION:Indoor Show Ring\, Keystone Centre\, Brandon\, MB\, Canada
CATEGORIES:Agriculture
ATTACH;FMTTYPE=image/jpeg:https://keystonecentre.com/wp-content/uploads/2024/09/Default-picture.jpg
END:VEVENT
BEGIN:VEVENT
DTSTART;TZID=America/Winnipeg:20260220T190000
DTEND;TZID=America/Winnipeg:20260220T190000
DTSTAMP:20260420T205048
CREATED:20250813T203646Z
LAST-MODIFIED:20250813T203646Z
UID:253065-1771614000-1771614000@keystonecentre.com
SUMMARY:Penticton Vees at Brandon Wheat Kings
DESCRIPTION:Date: \nFebruary 20th \nTime: \n7:00 PM \nLocation: \nAssiniboine Credit Union Place \nEntrance: \nEntrance A\, Canad Inns Upper Link
URL:https://keystonecentre.com/event/penticton-vees-at-brandon-wheat-kings/
LOCATION:Assiniboine Credit Union Place\, Keystone Centre\, Brandon\, MB\, Canada
CATEGORIES:Wheat Kings
ATTACH;FMTTYPE=image/jpeg:https://keystonecentre.com/wp-content/uploads/2025/08/2.jpg
END:VEVENT
END:VCALENDAR