BEGIN:VCALENDAR
VERSION:2.0
PRODID:-//Keystone Centre - ECPv6.15.16//NONSGML v1.0//EN
CALSCALE:GREGORIAN
METHOD:PUBLISH
X-WR-CALNAME:Keystone Centre
X-ORIGINAL-URL:https://keystonecentre.com
X-WR-CALDESC:Events for Keystone Centre
REFRESH-INTERVAL;VALUE=DURATION:PT1H
X-Robots-Tag:noindex
X-PUBLISHED-TTL:PT1H
BEGIN:VTIMEZONE
TZID:America/Winnipeg
BEGIN:DAYLIGHT
TZOFFSETFROM:-0600
TZOFFSETTO:-0500
TZNAME:CDT
DTSTART:20250309T080000
END:DAYLIGHT
BEGIN:STANDARD
TZOFFSETFROM:-0500
TZOFFSETTO:-0600
TZNAME:CST
DTSTART:20251102T070000
END:STANDARD
BEGIN:DAYLIGHT
TZOFFSETFROM:-0600
TZOFFSETTO:-0500
TZNAME:CDT
DTSTART:20260308T080000
END:DAYLIGHT
BEGIN:STANDARD
TZOFFSETFROM:-0500
TZOFFSETTO:-0600
TZNAME:CST
DTSTART:20261101T070000
END:STANDARD
BEGIN:DAYLIGHT
TZOFFSETFROM:-0600
TZOFFSETTO:-0500
TZNAME:CDT
DTSTART:20270314T080000
END:DAYLIGHT
BEGIN:STANDARD
TZOFFSETFROM:-0500
TZOFFSETTO:-0600
TZNAME:CST
DTSTART:20271107T070000
END:STANDARD
END:VTIMEZONE
BEGIN:VEVENT
DTSTART;VALUE=DATE:20260206
DTEND;VALUE=DATE:20260217
DTSTAMP:20260420T205020
CREATED:20250805T185827Z
LAST-MODIFIED:20250805T185827Z
UID:252987-1770336000-1771286399@keystonecentre.com
SUMMARY:Bruce's Four Seasons Trailer Sale 2026
DESCRIPTION:Date: \nFebruary 6th – 16th \nLocation: \nKeystone Centre \n 
URL:https://keystonecentre.com/event/bruces-four-seasons-trailer-sale-2026/
LOCATION:Keystone Centre\, #1 1175 18th Street \,\, Brandon\, Manitoba\, R7A 7C5\, Canada
CATEGORIES:Other
ATTACH;FMTTYPE=image/jpeg:https://keystonecentre.com/wp-content/uploads/2024/09/Default-picture.jpg
END:VEVENT
BEGIN:VEVENT
DTSTART;VALUE=DATE:20260212
DTEND;VALUE=DATE:20260216
DTSTAMP:20260420T205020
CREATED:20251021T212635Z
LAST-MODIFIED:20251021T212703Z
UID:253490-1770854400-1771199999@keystonecentre.com
SUMMARY:Western Riders
DESCRIPTION:Date: \nFebruary 12th – 15th \nLocation: \nBarns 3 &4
URL:https://keystonecentre.com/event/western-riders-6/
LOCATION:Assiniboine Credit Union Agricultural Centre
CATEGORIES:Agriculture
ATTACH;FMTTYPE=image/jpeg:https://keystonecentre.com/wp-content/uploads/2024/09/Default-picture.jpg
END:VEVENT
BEGIN:VEVENT
DTSTART;TZID=America/Winnipeg:20260212T080000
DTEND;TZID=America/Winnipeg:20260215T170000
DTSTAMP:20260420T205020
CREATED:20250924T203550Z
LAST-MODIFIED:20250924T203550Z
UID:253215-1770883200-1771174800@keystonecentre.com
SUMMARY:Tournament of Champions 2026
DESCRIPTION:Date: \nFebruary 12th – 15th \nLocation: \nAssiniboine Credit Union Place\, Flynn Arena\, Enns Arena \nEntrance:  \nEntrance A\, B
URL:https://keystonecentre.com/event/tournament-of-champions-2026-2/
LOCATION:Assiniboine Credit Union Place\, Keystone Centre\, Brandon\, MB\, Canada
CATEGORIES:Other
ATTACH;FMTTYPE=image/jpeg:https://keystonecentre.com/wp-content/uploads/2024/09/Default-picture.jpg
END:VEVENT
END:VCALENDAR