BEGIN:VCALENDAR
VERSION:2.0
PRODID:-//Keystone Centre - ECPv6.15.16//NONSGML v1.0//EN
CALSCALE:GREGORIAN
METHOD:PUBLISH
X-WR-CALNAME:Keystone Centre
X-ORIGINAL-URL:https://keystonecentre.com
X-WR-CALDESC:Events for Keystone Centre
REFRESH-INTERVAL;VALUE=DURATION:PT1H
X-Robots-Tag:noindex
X-PUBLISHED-TTL:PT1H
BEGIN:VTIMEZONE
TZID:America/Winnipeg
BEGIN:DAYLIGHT
TZOFFSETFROM:-0600
TZOFFSETTO:-0500
TZNAME:CDT
DTSTART:20250309T080000
END:DAYLIGHT
BEGIN:STANDARD
TZOFFSETFROM:-0500
TZOFFSETTO:-0600
TZNAME:CST
DTSTART:20251102T070000
END:STANDARD
BEGIN:DAYLIGHT
TZOFFSETFROM:-0600
TZOFFSETTO:-0500
TZNAME:CDT
DTSTART:20260308T080000
END:DAYLIGHT
BEGIN:STANDARD
TZOFFSETFROM:-0500
TZOFFSETTO:-0600
TZNAME:CST
DTSTART:20261101T070000
END:STANDARD
BEGIN:DAYLIGHT
TZOFFSETFROM:-0600
TZOFFSETTO:-0500
TZNAME:CDT
DTSTART:20270314T080000
END:DAYLIGHT
BEGIN:STANDARD
TZOFFSETFROM:-0500
TZOFFSETTO:-0600
TZNAME:CST
DTSTART:20271107T070000
END:STANDARD
END:VTIMEZONE
BEGIN:VEVENT
DTSTART;VALUE=DATE:20260205
DTEND;VALUE=DATE:20260209
DTSTAMP:20260420T205024
CREATED:20250924T203347Z
LAST-MODIFIED:20250924T203347Z
UID:253213-1770249600-1770595199@keystonecentre.com
SUMMARY:Tournament of Champions 2026
DESCRIPTION:Date: \nFebruary 5th – 8th \nLocation: \nAssiniboine Credit Union Place\, Flynn Arena\, Enns Arena \nEntrance: \nEntrance A\, B
URL:https://keystonecentre.com/event/tournament-of-champions-2026/
LOCATION:Assiniboine Credit Union Place\, Keystone Centre\, Brandon\, MB\, Canada
CATEGORIES:Other
ATTACH;FMTTYPE=image/jpeg:https://keystonecentre.com/wp-content/uploads/2024/09/Default-picture.jpg
END:VEVENT
BEGIN:VEVENT
DTSTART;VALUE=DATE:20260206
DTEND;VALUE=DATE:20260209
DTSTAMP:20260420T205024
CREATED:20251021T213151Z
LAST-MODIFIED:20251021T213151Z
UID:253494-1770336000-1770595199@keystonecentre.com
SUMMARY:BLHPSI Schooling Show
DESCRIPTION:Date: \nFebruary 6th – 8th \nLocation: \nBarn 3
URL:https://keystonecentre.com/event/blhpsi-schooling-show/
LOCATION:Assiniboine Credit Union Agricultural Centre
CATEGORIES:Agriculture
ATTACH;FMTTYPE=image/jpeg:https://keystonecentre.com/wp-content/uploads/2024/09/Default-picture.jpg
END:VEVENT
BEGIN:VEVENT
DTSTART;VALUE=DATE:20260206
DTEND;VALUE=DATE:20260217
DTSTAMP:20260420T205024
CREATED:20250805T185827Z
LAST-MODIFIED:20250805T185827Z
UID:252987-1770336000-1771286399@keystonecentre.com
SUMMARY:Bruce's Four Seasons Trailer Sale 2026
DESCRIPTION:Date: \nFebruary 6th – 16th \nLocation: \nKeystone Centre \n 
URL:https://keystonecentre.com/event/bruces-four-seasons-trailer-sale-2026/
LOCATION:Keystone Centre\, #1 1175 18th Street \,\, Brandon\, Manitoba\, R7A 7C5\, Canada
CATEGORIES:Other
ATTACH;FMTTYPE=image/jpeg:https://keystonecentre.com/wp-content/uploads/2024/09/Default-picture.jpg
END:VEVENT
BEGIN:VEVENT
DTSTART;TZID=America/Winnipeg:20260206T190000
DTEND;TZID=America/Winnipeg:20260206T190000
DTSTAMP:20260420T205024
CREATED:20250813T202329Z
LAST-MODIFIED:20250813T202329Z
UID:253059-1770404400-1770404400@keystonecentre.com
SUMMARY:Calgary Hitmen at Brandon Wheat Kings
DESCRIPTION:Date: \nFebruary 6th \nTime: \n7:00 PM \nLocation: \nAssiniboine Credit Union Place \nEntrance: \nEntrance A\, Canad Inns Upper Link
URL:https://keystonecentre.com/event/calgary-hitmen-at-brandon-wheat-kings-4/
LOCATION:Assiniboine Credit Union Place\, Keystone Centre\, Brandon\, MB\, Canada
CATEGORIES:Wheat Kings
ATTACH;FMTTYPE=image/jpeg:https://keystonecentre.com/wp-content/uploads/2025/08/9.jpg
END:VEVENT
END:VCALENDAR