BEGIN:VCALENDAR
VERSION:2.0
PRODID:-//Keystone Centre - ECPv6.15.16//NONSGML v1.0//EN
CALSCALE:GREGORIAN
METHOD:PUBLISH
X-WR-CALNAME:Keystone Centre
X-ORIGINAL-URL:https://keystonecentre.com
X-WR-CALDESC:Events for Keystone Centre
REFRESH-INTERVAL;VALUE=DURATION:PT1H
X-Robots-Tag:noindex
X-PUBLISHED-TTL:PT1H
BEGIN:VTIMEZONE
TZID:America/Winnipeg
BEGIN:DAYLIGHT
TZOFFSETFROM:-0600
TZOFFSETTO:-0500
TZNAME:CDT
DTSTART:20240310T080000
END:DAYLIGHT
BEGIN:STANDARD
TZOFFSETFROM:-0500
TZOFFSETTO:-0600
TZNAME:CST
DTSTART:20241103T070000
END:STANDARD
BEGIN:DAYLIGHT
TZOFFSETFROM:-0600
TZOFFSETTO:-0500
TZNAME:CDT
DTSTART:20250309T080000
END:DAYLIGHT
BEGIN:STANDARD
TZOFFSETFROM:-0500
TZOFFSETTO:-0600
TZNAME:CST
DTSTART:20251102T070000
END:STANDARD
BEGIN:DAYLIGHT
TZOFFSETFROM:-0600
TZOFFSETTO:-0500
TZNAME:CDT
DTSTART:20260308T080000
END:DAYLIGHT
BEGIN:STANDARD
TZOFFSETFROM:-0500
TZOFFSETTO:-0600
TZNAME:CST
DTSTART:20261101T070000
END:STANDARD
END:VTIMEZONE
BEGIN:VEVENT
DTSTART;TZID=America/Winnipeg:20251120T110000
DTEND;TZID=America/Winnipeg:20251120T130000
DTSTAMP:20260421T014207
CREATED:20251028T164803Z
LAST-MODIFIED:20251028T164803Z
UID:253557-1763636400-1763643600@keystonecentre.com
SUMMARY:Mental Health in the Workplace Luncheon - Brandon Chamber of Commerce
DESCRIPTION:Date: \nNovember 20th \nTime: \n11:00 AM – 1:00 PM \nLocation: \nMNP Hall \nSee “More Info” button for Fees/Admissions information.
URL:https://keystonecentre.com/event/mental-health-in-the-workplace-luncheon-brandon-chamber-of-commerce/
LOCATION:MNP Hall\, Keystone Centre\, Brandon\, MB\, Canada
CATEGORIES:Other
ATTACH;FMTTYPE=image/jpeg:https://keystonecentre.com/wp-content/uploads/2024/09/Default-picture.jpg
END:VEVENT
BEGIN:VEVENT
DTSTART;TZID=America/Winnipeg:20251120T200000
DTEND;TZID=America/Winnipeg:20251120T200000
DTSTAMP:20260421T014207
CREATED:20250225T212012Z
LAST-MODIFIED:20250225T221617Z
UID:252493-1763668800-1763668800@keystonecentre.com
SUMMARY:Russell Peters: RELAX World Tour
DESCRIPTION:VIP Ticket includes: \n\nOne Top Price Reserved Ticket in best available seating\nOne VIP Laminate + Lanyard\nOne Signed Poster\nOne Meet Greet + Photo Opportunity with Russell Peters
URL:https://keystonecentre.com/event/russell-peters-relax-world-tour/
LOCATION:Assiniboine Credit Union Place\, Keystone Centre\, Brandon\, MB\, Canada
CATEGORIES:Special Events
ATTACH;FMTTYPE=image/jpeg:https://keystonecentre.com/wp-content/uploads/2025/02/RussellPeters_BRAN.MB_1080x1350.jpg
END:VEVENT
END:VCALENDAR