BEGIN:VCALENDAR
VERSION:2.0
PRODID:-//Keystone Centre - ECPv6.15.16//NONSGML v1.0//EN
CALSCALE:GREGORIAN
METHOD:PUBLISH
X-ORIGINAL-URL:https://keystonecentre.com
X-WR-CALDESC:Events for Keystone Centre
REFRESH-INTERVAL;VALUE=DURATION:PT1H
X-Robots-Tag:noindex
X-PUBLISHED-TTL:PT1H
BEGIN:VTIMEZONE
TZID:America/Winnipeg
BEGIN:DAYLIGHT
TZOFFSETFROM:-0600
TZOFFSETTO:-0500
TZNAME:CDT
DTSTART:20240310T080000
END:DAYLIGHT
BEGIN:STANDARD
TZOFFSETFROM:-0500
TZOFFSETTO:-0600
TZNAME:CST
DTSTART:20241103T070000
END:STANDARD
BEGIN:DAYLIGHT
TZOFFSETFROM:-0600
TZOFFSETTO:-0500
TZNAME:CDT
DTSTART:20250309T080000
END:DAYLIGHT
BEGIN:STANDARD
TZOFFSETFROM:-0500
TZOFFSETTO:-0600
TZNAME:CST
DTSTART:20251102T070000
END:STANDARD
BEGIN:DAYLIGHT
TZOFFSETFROM:-0600
TZOFFSETTO:-0500
TZNAME:CDT
DTSTART:20260308T080000
END:DAYLIGHT
BEGIN:STANDARD
TZOFFSETFROM:-0500
TZOFFSETTO:-0600
TZNAME:CST
DTSTART:20261101T070000
END:STANDARD
END:VTIMEZONE
BEGIN:VEVENT
DTSTART;VALUE=DATE:20251114
DTEND;VALUE=DATE:20251117
DTSTAMP:20260421T014337
CREATED:20250528T144421Z
LAST-MODIFIED:20250528T144421Z
UID:252804-1763078400-1763337599@keystonecentre.com
SUMMARY:Barrel Jackpot
DESCRIPTION:Date: \nNovember 14th – 16th \nLocation: \nIndoor Show Ring \nEntrance: \nEntrance D
URL:https://keystonecentre.com/event/barrel-jackpot-3/
LOCATION:Indoor Show Ring\, Keystone Centre\, Brandon\, MB\, Canada
CATEGORIES:Agriculture
ATTACH;FMTTYPE=image/jpeg:https://keystonecentre.com/wp-content/uploads/2024/09/Default-picture.jpg
END:VEVENT
BEGIN:VEVENT
DTSTART;VALUE=DATE:20251114
DTEND;VALUE=DATE:20251117
DTSTAMP:20260421T014337
CREATED:20250924T202830Z
LAST-MODIFIED:20250924T202830Z
UID:253211-1763078400-1763337599@keystonecentre.com
SUMMARY:Subway Female Hockey Challenge
DESCRIPTION:Date: \nNovember 14th – 16th \nLocation: \nAssiniboine Credit Union Place\, Enns Arena\, Flynn Arena \nEntrance: \nEntrance A\, B
URL:https://keystonecentre.com/event/subway-female-hockey-challenge/
LOCATION:Assiniboine Credit Union Place\, Keystone Centre\, Brandon\, MB\, Canada
CATEGORIES:Other
ATTACH;FMTTYPE=image/jpeg:https://keystonecentre.com/wp-content/uploads/2024/09/Default-picture.jpg
END:VEVENT
BEGIN:VEVENT
DTSTART;VALUE=DATE:20251115
DTEND;VALUE=DATE:20251117
DTSTAMP:20260421T014337
CREATED:20250528T143815Z
LAST-MODIFIED:20250528T143815Z
UID:252798-1763164800-1763337599@keystonecentre.com
SUMMARY:Apple & Pine Christmas Market
DESCRIPTION:Date: \nNovember 15th – 16th \nLocation: \nManitoba Room \nEntrance: \nEntrance A \n  \n 
URL:https://keystonecentre.com/event/apple-pine-christmas-market-2/
LOCATION:Manitoba Room\, Keystone Centre\, Brandon\, MB\, Canada
CATEGORIES:Other
ATTACH;FMTTYPE=image/jpeg:https://keystonecentre.com/wp-content/uploads/2024/09/Default-picture.jpg
END:VEVENT
BEGIN:VEVENT
DTSTART;TZID=America/Winnipeg:20251115T180000
DTEND;TZID=America/Winnipeg:20251115T180000
DTSTAMP:20260421T014337
CREATED:20250813T190349Z
LAST-MODIFIED:20250813T190349Z
UID:253036-1763229600-1763229600@keystonecentre.com
SUMMARY:Medicine Hat Tigers at Brandon Wheat Kings
DESCRIPTION:Date: \nNovember 15th \nTime: \n6:00 PM \nLocation: \nAssiniboine Credit Union Place \nEntrance: \nEntrance A\, Canad Inns Upper Link
URL:https://keystonecentre.com/event/medicine-hat-tigers-at-brandon-wheat-kings-3/
LOCATION:Assiniboine Credit Union Place\, Keystone Centre\, Brandon\, MB\, Canada
CATEGORIES:Wheat Kings
ATTACH;FMTTYPE=image/jpeg:https://keystonecentre.com/wp-content/uploads/2025/08/4.jpg
END:VEVENT
END:VCALENDAR