BEGIN:VCALENDAR
VERSION:2.0
PRODID:-//Keystone Centre - ECPv6.15.16//NONSGML v1.0//EN
CALSCALE:GREGORIAN
METHOD:PUBLISH
X-ORIGINAL-URL:https://keystonecentre.com
X-WR-CALDESC:Events for Keystone Centre
REFRESH-INTERVAL;VALUE=DURATION:PT1H
X-Robots-Tag:noindex
X-PUBLISHED-TTL:PT1H
BEGIN:VTIMEZONE
TZID:America/Winnipeg
BEGIN:DAYLIGHT
TZOFFSETFROM:-0600
TZOFFSETTO:-0500
TZNAME:CDT
DTSTART:20240310T080000
END:DAYLIGHT
BEGIN:STANDARD
TZOFFSETFROM:-0500
TZOFFSETTO:-0600
TZNAME:CST
DTSTART:20241103T070000
END:STANDARD
BEGIN:DAYLIGHT
TZOFFSETFROM:-0600
TZOFFSETTO:-0500
TZNAME:CDT
DTSTART:20250309T080000
END:DAYLIGHT
BEGIN:STANDARD
TZOFFSETFROM:-0500
TZOFFSETTO:-0600
TZNAME:CST
DTSTART:20251102T070000
END:STANDARD
BEGIN:DAYLIGHT
TZOFFSETFROM:-0600
TZOFFSETTO:-0500
TZNAME:CDT
DTSTART:20260308T080000
END:DAYLIGHT
BEGIN:STANDARD
TZOFFSETFROM:-0500
TZOFFSETTO:-0600
TZNAME:CST
DTSTART:20261101T070000
END:STANDARD
END:VTIMEZONE
BEGIN:VEVENT
DTSTART;VALUE=DATE:20251110
DTEND;VALUE=DATE:20251112
DTSTAMP:20260421T014340
CREATED:20251008T142836Z
LAST-MODIFIED:20251008T142836Z
UID:253431-1762732800-1762905599@keystonecentre.com
SUMMARY:Agility Dogs
DESCRIPTION:Date: \nNovember 10th – 11th \nLocation: \nBarn 3 \nEntrance: \nNorth Walk-through Doors
URL:https://keystonecentre.com/event/agility-dogs-9/
LOCATION:Assiniboine Credit Union Agricultural Centre
CATEGORIES:Agriculture
ATTACH;FMTTYPE=image/jpeg:https://keystonecentre.com/wp-content/uploads/2024/09/Default-picture.jpg
END:VEVENT
BEGIN:VEVENT
DTSTART;VALUE=DATE:20251111
DTEND;VALUE=DATE:20251112
DTSTAMP:20260421T014340
CREATED:20250630T163838Z
LAST-MODIFIED:20251107T224152Z
UID:252829-1762819200-1762905599@keystonecentre.com
SUMMARY:Remembrance Day Ceremony
DESCRIPTION:Date:  \nNovember 11th \nTime: \nDoors to Assiniboine Credit Union Place open at 10:00 AM \nO’Canada plays at 10:40 AM \nMoment of silence at 11:00 AM \nLocation: \nAssiniboine Credit Union Place \nEntrance: \nEntrance A & E
URL:https://keystonecentre.com/event/remembrance-day-ceremony-2/
LOCATION:Assiniboine Credit Union Place\, Keystone Centre\, Brandon\, MB\, Canada
CATEGORIES:Other
ATTACH;FMTTYPE=image/jpeg:https://keystonecentre.com/wp-content/uploads/2024/09/Default-picture.jpg
END:VEVENT
BEGIN:VEVENT
DTSTART;VALUE=DATE:20251111
DTEND;VALUE=DATE:20251112
DTSTAMP:20260421T014340
CREATED:20251008T133553Z
LAST-MODIFIED:20251008T133553Z
UID:253415-1762819200-1762905599@keystonecentre.com
SUMMARY:Brandon Futsol
DESCRIPTION:Date: \nNovember 11th \nLocation: \nCity Square
URL:https://keystonecentre.com/event/brandon-futsol-11/
LOCATION:City Square
CATEGORIES:Other
ATTACH;FMTTYPE=image/jpeg:https://keystonecentre.com/wp-content/uploads/2024/09/Default-picture.jpg
END:VEVENT
BEGIN:VEVENT
DTSTART;TZID=America/Winnipeg:20251111T143000
DTEND;TZID=America/Winnipeg:20251111T143000
DTSTAMP:20260421T014340
CREATED:20250813T190051Z
LAST-MODIFIED:20251107T224309Z
UID:253034-1762871400-1762871400@keystonecentre.com
SUMMARY:Red Deer Rebels at Brandon Wheat Kings
DESCRIPTION:Date: \nNovember 11th \nTime: \n2:30 PM \nLocation: \nAssiniboine Credit Union Place \nEntrance: \nEntrance A & E \n**Reminder Box Office is not open until 1:00 PM for this event**
URL:https://keystonecentre.com/event/red-deer-rebels-at-brandon-wheat-kings-3/
LOCATION:Assiniboine Credit Union Place\, Keystone Centre\, Brandon\, MB\, Canada
CATEGORIES:Wheat Kings
ATTACH;FMTTYPE=image/jpeg:https://keystonecentre.com/wp-content/uploads/2025/08/3.jpg
END:VEVENT
END:VCALENDAR