BEGIN:VCALENDAR
VERSION:2.0
PRODID:-//Keystone Centre - ECPv6.15.16//NONSGML v1.0//EN
CALSCALE:GREGORIAN
METHOD:PUBLISH
X-WR-CALNAME:Keystone Centre
X-ORIGINAL-URL:https://keystonecentre.com
X-WR-CALDESC:Events for Keystone Centre
REFRESH-INTERVAL;VALUE=DURATION:PT1H
X-Robots-Tag:noindex
X-PUBLISHED-TTL:PT1H
BEGIN:VTIMEZONE
TZID:America/Winnipeg
BEGIN:DAYLIGHT
TZOFFSETFROM:-0600
TZOFFSETTO:-0500
TZNAME:CDT
DTSTART:20240310T080000
END:DAYLIGHT
BEGIN:STANDARD
TZOFFSETFROM:-0500
TZOFFSETTO:-0600
TZNAME:CST
DTSTART:20241103T070000
END:STANDARD
BEGIN:DAYLIGHT
TZOFFSETFROM:-0600
TZOFFSETTO:-0500
TZNAME:CDT
DTSTART:20250309T080000
END:DAYLIGHT
BEGIN:STANDARD
TZOFFSETFROM:-0500
TZOFFSETTO:-0600
TZNAME:CST
DTSTART:20251102T070000
END:STANDARD
BEGIN:DAYLIGHT
TZOFFSETFROM:-0600
TZOFFSETTO:-0500
TZNAME:CDT
DTSTART:20260308T080000
END:DAYLIGHT
BEGIN:STANDARD
TZOFFSETFROM:-0500
TZOFFSETTO:-0600
TZNAME:CST
DTSTART:20261101T070000
END:STANDARD
END:VTIMEZONE
BEGIN:VEVENT
DTSTART;VALUE=DATE:20251029
DTEND;VALUE=DATE:20251030
DTSTAMP:20260421T014055
CREATED:20250924T204401Z
LAST-MODIFIED:20250925T141742Z
UID:253224-1761696000-1761782399@keystonecentre.com
SUMMARY:VOLT Hockey
DESCRIPTION:Date: \nOctober 29th \nLocation: \nCity Square
URL:https://keystonecentre.com/event/volt-hockey-4/
LOCATION:City Square
CATEGORIES:Other
ATTACH;FMTTYPE=image/jpeg:https://keystonecentre.com/wp-content/uploads/2024/09/Default-picture.jpg
END:VEVENT
BEGIN:VEVENT
DTSTART;VALUE=DATE:20251029
DTEND;VALUE=DATE:20251102
DTSTAMP:20260421T014055
CREATED:20250805T163805Z
LAST-MODIFIED:20250805T163805Z
UID:252974-1761696000-1762041599@keystonecentre.com
SUMMARY:Manitoba Ag Ex 2025
DESCRIPTION:Date: \nOctober 29th – November 1st \nLocation: \nIndoor Show Ring \nEntrance: \nEntrance C &D
URL:https://keystonecentre.com/event/manitoba-ag-ex-2025/
LOCATION:Indoor Show Ring\, Keystone Centre\, Brandon\, MB\, Canada
CATEGORIES:Agriculture
ATTACH;FMTTYPE=image/jpeg:https://keystonecentre.com/wp-content/uploads/2024/09/Default-picture.jpg
END:VEVENT
BEGIN:VEVENT
DTSTART;TZID=America/Winnipeg:20251029T193000
DTEND;TZID=America/Winnipeg:20251029T193000
DTSTAMP:20260421T014055
CREATED:20250924T202525Z
LAST-MODIFIED:20250924T202525Z
UID:253209-1761766200-1761766200@keystonecentre.com
SUMMARY:Wilder Voices
DESCRIPTION:Date: \nOctober 29th \nTime: \n7:30 PM \nLocation: \nAmphitheatre \nEntrance: \nEntrance A
URL:https://keystonecentre.com/event/wilder-voices/
LOCATION:Westman Communications Group Amphitheatre
CATEGORIES:Other
ATTACH;FMTTYPE=image/jpeg:https://keystonecentre.com/wp-content/uploads/2024/09/Default-picture.jpg
END:VEVENT
END:VCALENDAR